BEGIN:VCALENDAR
VERSION:2.0
PRODID:-//Brookhaven Parks &amp; Playgrounds - ECPv6.15.10//NONSGML v1.0//EN
CALSCALE:GREGORIAN
METHOD:PUBLISH
X-WR-CALNAME:Brookhaven Parks &amp; Playgrounds
X-ORIGINAL-URL:https://brookhavenrecreation.com
X-WR-CALDESC:Events for Brookhaven Parks &amp; Playgrounds
REFRESH-INTERVAL;VALUE=DURATION:PT1H
X-Robots-Tag:noindex
X-PUBLISHED-TTL:PT1H
BEGIN:VTIMEZONE
TZID:America/Detroit
BEGIN:DAYLIGHT
TZOFFSETFROM:-0500
TZOFFSETTO:-0400
TZNAME:EDT
DTSTART:20260308T070000
END:DAYLIGHT
BEGIN:STANDARD
TZOFFSETFROM:-0400
TZOFFSETTO:-0500
TZNAME:EST
DTSTART:20261101T060000
END:STANDARD
BEGIN:DAYLIGHT
TZOFFSETFROM:-0500
TZOFFSETTO:-0400
TZNAME:EDT
DTSTART:20270314T070000
END:DAYLIGHT
BEGIN:STANDARD
TZOFFSETFROM:-0400
TZOFFSETTO:-0500
TZNAME:EST
DTSTART:20271107T060000
END:STANDARD
BEGIN:DAYLIGHT
TZOFFSETFROM:-0500
TZOFFSETTO:-0400
TZNAME:EDT
DTSTART:20280312T070000
END:DAYLIGHT
BEGIN:STANDARD
TZOFFSETFROM:-0400
TZOFFSETTO:-0500
TZNAME:EST
DTSTART:20281105T060000
END:STANDARD
END:VTIMEZONE
BEGIN:VEVENT
DTSTART;TZID=America/Detroit:20270601T100000
DTEND;TZID=America/Detroit:20270601T110000
DTSTAMP:20260425T180712
CREATED:20251024T182944Z
LAST-MODIFIED:20251024T182944Z
UID:10002473-1811844000-1811847600@brookhavenrecreation.com
SUMMARY:Fitness Class (Sit-n-Fit)
DESCRIPTION:Our computer lab is open Monday – Wednesday from 8:00 am- 1:00pm.
URL:https://brookhavenrecreation.com/event/fitness-class-sit-n-fit/2027-06-01/
LOCATION:Jimmy Furlow Senior Citizen Center
ATTACH;FMTTYPE=image/png:https://brookhavenrecreation.com/wp-content/uploads/2025/10/Designer-1.png
END:VEVENT
BEGIN:VEVENT
DTSTART;TZID=America/Detroit:20270601T130000
DTEND;TZID=America/Detroit:20270601T130000
DTSTAMP:20260425T180712
CREATED:20251024T191039Z
LAST-MODIFIED:20251024T191039Z
UID:10004735-1811854800-1811854800@brookhavenrecreation.com
SUMMARY:Bridge Group
DESCRIPTION:Bridge Group meets Tuesdays at 1:00 pm. This group has participation requirements. Contact us for more information: 601-835-5076.
URL:https://brookhavenrecreation.com/event/bridge-group/2027-06-01/
LOCATION:Jimmy Furlow Senior Citizen Center
ATTACH;FMTTYPE=image/png:https://brookhavenrecreation.com/wp-content/uploads/2025/10/Designer-1.png
END:VEVENT
BEGIN:VEVENT
DTSTART;TZID=America/Detroit:20270602T080000
DTEND;TZID=America/Detroit:20270602T130000
DTSTAMP:20260425T180712
CREATED:20251024T181619Z
LAST-MODIFIED:20251024T182057Z
UID:10000171-1811923200-1811941200@brookhavenrecreation.com
SUMMARY:Computer Lab
DESCRIPTION:Our computer lab is open Monday – Wednesday from 8:00 am- 1:00pm.
URL:https://brookhavenrecreation.com/event/computer-lab/2027-06-02/
LOCATION:Jimmy Furlow Senior Citizen Center
ATTACH;FMTTYPE=image/png:https://brookhavenrecreation.com/wp-content/uploads/2025/10/Designer-1.png
END:VEVENT
BEGIN:VEVENT
DTSTART;TZID=America/Detroit:20270602T081000
DTEND;TZID=America/Detroit:20270602T103000
DTSTAMP:20260425T180712
CREATED:20251024T181946Z
LAST-MODIFIED:20251024T182041Z
UID:10000779-1811923800-1811932200@brookhavenrecreation.com
SUMMARY:Line Dancing
DESCRIPTION:Is a fun and social way to enjoy music and exercise\, with choreographed steps that are performed in sync by a group of dancers.
URL:https://brookhavenrecreation.com/event/line-dancing/2027-06-02/
LOCATION:Jimmy Furlow Senior Citizen Center
ATTACH;FMTTYPE=image/png:https://brookhavenrecreation.com/wp-content/uploads/2025/10/Designer-1.png
END:VEVENT
BEGIN:VEVENT
DTSTART;TZID=America/Detroit:20270603T083000
DTEND;TZID=America/Detroit:20270603T083000
DTSTAMP:20260425T180712
CREATED:20251024T190615Z
LAST-MODIFIED:20251024T190615Z
UID:10003359-1812011400-1812011400@brookhavenrecreation.com
SUMMARY:Walking Club
DESCRIPTION:Indoor walking club helps with mobility\, weight loss\, and socialization.
URL:https://brookhavenrecreation.com/event/walking-club/2027-06-03/
LOCATION:Jimmy Furlow Senior Citizen Center
ATTACH;FMTTYPE=image/png:https://brookhavenrecreation.com/wp-content/uploads/2025/10/Designer-1.png
END:VEVENT
BEGIN:VEVENT
DTSTART;TZID=America/Detroit:20270603T100000
DTEND;TZID=America/Detroit:20270603T110000
DTSTAMP:20260425T180712
CREATED:20251024T182944Z
LAST-MODIFIED:20251024T182944Z
UID:10002474-1812016800-1812020400@brookhavenrecreation.com
SUMMARY:Fitness Class (Sit-n-Fit)
DESCRIPTION:Our computer lab is open Monday – Wednesday from 8:00 am- 1:00pm.
URL:https://brookhavenrecreation.com/event/fitness-class-sit-n-fit/2027-06-03/
LOCATION:Jimmy Furlow Senior Citizen Center
ATTACH;FMTTYPE=image/png:https://brookhavenrecreation.com/wp-content/uploads/2025/10/Designer-1.png
END:VEVENT
BEGIN:VEVENT
DTSTART;TZID=America/Detroit:20270603T130000
DTEND;TZID=America/Detroit:20270603T130000
DTSTAMP:20260425T180712
CREATED:20251024T190957Z
LAST-MODIFIED:20251024T190957Z
UID:10004209-1812027600-1812027600@brookhavenrecreation.com
SUMMARY:Bingo
DESCRIPTION:Bingo meets Thursdays at 1:00pm and is open to the public\, just bring a wrapped gift ($10 minimum value).
URL:https://brookhavenrecreation.com/event/bingo/2027-06-03/
LOCATION:Jimmy Furlow Senior Citizen Center
ATTACH;FMTTYPE=image/png:https://brookhavenrecreation.com/wp-content/uploads/2025/10/Designer-1.png
END:VEVENT
BEGIN:VEVENT
DTSTART;TZID=America/Detroit:20270603T140000
DTEND;TZID=America/Detroit:20270603T140000
DTSTAMP:20260425T180712
CREATED:20251024T191338Z
LAST-MODIFIED:20251024T191338Z
UID:10005261-1812031200-1812031200@brookhavenrecreation.com
SUMMARY:Rummy Club
DESCRIPTION:Rummy club meets Thursdays at 2:00 pm. This group has participation requirements. Contact us for more information: 601-835-5076.
URL:https://brookhavenrecreation.com/event/rummy-club/2027-06-03/
LOCATION:Jimmy Furlow Senior Citizen Center
ATTACH;FMTTYPE=image/png:https://brookhavenrecreation.com/wp-content/uploads/2025/10/Designer-1.png
END:VEVENT
BEGIN:VEVENT
DTSTART;TZID=America/Detroit:20270604T083000
DTEND;TZID=America/Detroit:20270604T083000
DTSTAMP:20260425T180712
CREATED:20251024T191854Z
LAST-MODIFIED:20251024T191854Z
UID:10007486-1812097800-1812097800@brookhavenrecreation.com
SUMMARY:Soul Dancing
DESCRIPTION:Is a fun and social way to enjoy music and exercise\, with choreographed steps that are performed in sync by a group of dancers.
URL:https://brookhavenrecreation.com/event/soul-dancing/2027-06-04/
LOCATION:Jimmy Furlow Senior Citizen Center
ATTACH;FMTTYPE=image/png:https://brookhavenrecreation.com/wp-content/uploads/2025/10/Designer-1.png
END:VEVENT
BEGIN:VEVENT
DTSTART;TZID=America/Detroit:20270604T090000
DTEND;TZID=America/Detroit:20270604T110000
DTSTAMP:20260425T180712
CREATED:20251024T190905Z
LAST-MODIFIED:20251024T190905Z
UID:10004083-1812099600-1812106800@brookhavenrecreation.com
SUMMARY:Trivia Club
DESCRIPTION:Meets 1st Friday of the month 9:00 am-11:00am. Individual or (2) member teams.
URL:https://brookhavenrecreation.com/event/trivia-club/2027-06-04/
LOCATION:Jimmy Furlow Senior Citizen Center
ATTACH;FMTTYPE=image/png:https://brookhavenrecreation.com/wp-content/uploads/2025/10/Designer-1.png
END:VEVENT
BEGIN:VEVENT
DTSTART;TZID=America/Detroit:20270604T110000
DTEND;TZID=America/Detroit:20270604T110000
DTSTAMP:20260425T180712
CREATED:20251024T191407Z
LAST-MODIFIED:20251024T191407Z
UID:10005787-1812106800-1812106800@brookhavenrecreation.com
SUMMARY:Card Sharks
DESCRIPTION:Card Sharks meets Fridays at 11:00 am. This group has participation requirements. Contact us for more information: 601-835-5076.
URL:https://brookhavenrecreation.com/event/card-sharks/2027-06-04/
LOCATION:Jimmy Furlow Senior Citizen Center
ATTACH;FMTTYPE=image/png:https://brookhavenrecreation.com/wp-content/uploads/2025/10/Designer-1.png
END:VEVENT
BEGIN:VEVENT
DTSTART;TZID=America/Detroit:20270607T000000
DTEND;TZID=America/Detroit:20270607T235959
DTSTAMP:20260425T180712
CREATED:20251024T182642Z
LAST-MODIFIED:20251024T191948Z
UID:10001678-1812326400-1812412799@brookhavenrecreation.com
SUMMARY:Jammin Sesion
DESCRIPTION:Meets 1st and 3rd Monday of each month at 1:00pm. “Picken” and “Grinnen” just for fun! Come play an instrument\, clap or sing along- all are welcome!
URL:https://brookhavenrecreation.com/event/jammin-sesion/2027-06-07/
LOCATION:Jimmy Furlow Senior Citizen Center
ATTACH;FMTTYPE=image/png:https://brookhavenrecreation.com/wp-content/uploads/2025/10/Designer-1.png
END:VEVENT
BEGIN:VEVENT
DTSTART;TZID=America/Detroit:20270607T081000
DTEND;TZID=America/Detroit:20270607T103000
DTSTAMP:20260425T180712
CREATED:20251024T181946Z
LAST-MODIFIED:20251024T182041Z
UID:10000780-1812355800-1812364200@brookhavenrecreation.com
SUMMARY:Line Dancing
DESCRIPTION:Is a fun and social way to enjoy music and exercise\, with choreographed steps that are performed in sync by a group of dancers.
URL:https://brookhavenrecreation.com/event/line-dancing/2027-06-07/
LOCATION:Jimmy Furlow Senior Citizen Center
ATTACH;FMTTYPE=image/png:https://brookhavenrecreation.com/wp-content/uploads/2025/10/Designer-1.png
END:VEVENT
BEGIN:VEVENT
DTSTART;TZID=America/Detroit:20270607T113000
DTEND;TZID=America/Detroit:20270607T113000
DTSTAMP:20260425T180712
CREATED:20251024T191617Z
LAST-MODIFIED:20251024T191617Z
UID:10006313-1812367800-1812367800@brookhavenrecreation.com
SUMMARY:Bunco
DESCRIPTION:Bunco meets Mondays at 11:30 am. This group has participation requirements. Contact us for more information: 601-835-5076.
URL:https://brookhavenrecreation.com/event/bunco/2027-06-07/
LOCATION:Jimmy Furlow Senior Citizen Center
ATTACH;FMTTYPE=image/png:https://brookhavenrecreation.com/wp-content/uploads/2025/10/Designer-1.png
END:VEVENT
BEGIN:VEVENT
DTSTART;TZID=America/Detroit:20270608T100000
DTEND;TZID=America/Detroit:20270608T110000
DTSTAMP:20260425T180712
CREATED:20251024T182944Z
LAST-MODIFIED:20251024T182944Z
UID:10002475-1812448800-1812452400@brookhavenrecreation.com
SUMMARY:Fitness Class (Sit-n-Fit)
DESCRIPTION:Our computer lab is open Monday – Wednesday from 8:00 am- 1:00pm.
URL:https://brookhavenrecreation.com/event/fitness-class-sit-n-fit/2027-06-08/
LOCATION:Jimmy Furlow Senior Citizen Center
ATTACH;FMTTYPE=image/png:https://brookhavenrecreation.com/wp-content/uploads/2025/10/Designer-1.png
END:VEVENT
BEGIN:VEVENT
DTSTART;TZID=America/Detroit:20270608T120000
DTEND;TZID=America/Detroit:20270608T160000
DTSTAMP:20260425T180712
CREATED:20251024T183128Z
LAST-MODIFIED:20251024T183128Z
UID:10003111-1812456000-1812470400@brookhavenrecreation.com
SUMMARY:Homemakers Club
DESCRIPTION:This club is with Mississippi State Extension service\, they teach a variety of things. Teach a variety of things\, such as canning\, gardening\, sewing\, nutrition etc.
URL:https://brookhavenrecreation.com/event/homemakers-club/2027-06-08/
LOCATION:Jimmy Furlow Senior Citizen Center
ATTACH;FMTTYPE=image/png:https://brookhavenrecreation.com/wp-content/uploads/2025/10/Designer-1.png
END:VEVENT
BEGIN:VEVENT
DTSTART;TZID=America/Detroit:20270608T120000
DTEND;TZID=America/Detroit:20270608T160000
DTSTAMP:20260425T180712
CREATED:20251024T190510Z
LAST-MODIFIED:20251024T190510Z
UID:10003172-1812456000-1812470400@brookhavenrecreation.com
SUMMARY:Homemakers Club
DESCRIPTION:This club is with Mississippi State Extension service\, they teach a variety of things. Teach a variety of things\, such as canning\, gardening\, sewing\, nutrition etc.
URL:https://brookhavenrecreation.com/event/homemakers-club-2/2027-06-08/
LOCATION:Jimmy Furlow Senior Citizen Center
ATTACH;FMTTYPE=image/png:https://brookhavenrecreation.com/wp-content/uploads/2025/10/Designer-1.png
END:VEVENT
BEGIN:VEVENT
DTSTART;TZID=America/Detroit:20270608T130000
DTEND;TZID=America/Detroit:20270608T130000
DTSTAMP:20260425T180712
CREATED:20251024T191039Z
LAST-MODIFIED:20251024T191039Z
UID:10004736-1812459600-1812459600@brookhavenrecreation.com
SUMMARY:Bridge Group
DESCRIPTION:Bridge Group meets Tuesdays at 1:00 pm. This group has participation requirements. Contact us for more information: 601-835-5076.
URL:https://brookhavenrecreation.com/event/bridge-group/2027-06-08/
LOCATION:Jimmy Furlow Senior Citizen Center
ATTACH;FMTTYPE=image/png:https://brookhavenrecreation.com/wp-content/uploads/2025/10/Designer-1.png
END:VEVENT
BEGIN:VEVENT
DTSTART;TZID=America/Detroit:20270609T000000
DTEND;TZID=America/Detroit:20270609T235959
DTSTAMP:20260425T180712
CREATED:20251024T191750Z
LAST-MODIFIED:20251024T191750Z
UID:10007097-1812499200-1812585599@brookhavenrecreation.com
SUMMARY:Piecemakers Quilting Club
DESCRIPTION:Piecemakers Quilting Club meets once a month. This group has participation requirements. Contact us for more information: 601-835-5076.
URL:https://brookhavenrecreation.com/event/piecemakers-quilting-club/2027-06-09/
LOCATION:Jimmy Furlow Senior Citizen Center
ATTACH;FMTTYPE=image/png:https://brookhavenrecreation.com/wp-content/uploads/2025/10/Designer-1.png
END:VEVENT
BEGIN:VEVENT
DTSTART;TZID=America/Detroit:20270609T080000
DTEND;TZID=America/Detroit:20270609T130000
DTSTAMP:20260425T180712
CREATED:20251024T181619Z
LAST-MODIFIED:20251024T182057Z
UID:10000172-1812528000-1812546000@brookhavenrecreation.com
SUMMARY:Computer Lab
DESCRIPTION:Our computer lab is open Monday – Wednesday from 8:00 am- 1:00pm.
URL:https://brookhavenrecreation.com/event/computer-lab/2027-06-09/
LOCATION:Jimmy Furlow Senior Citizen Center
ATTACH;FMTTYPE=image/png:https://brookhavenrecreation.com/wp-content/uploads/2025/10/Designer-1.png
END:VEVENT
BEGIN:VEVENT
DTSTART;TZID=America/Detroit:20270609T081000
DTEND;TZID=America/Detroit:20270609T103000
DTSTAMP:20260425T180712
CREATED:20251024T181946Z
LAST-MODIFIED:20251024T182041Z
UID:10000781-1812528600-1812537000@brookhavenrecreation.com
SUMMARY:Line Dancing
DESCRIPTION:Is a fun and social way to enjoy music and exercise\, with choreographed steps that are performed in sync by a group of dancers.
URL:https://brookhavenrecreation.com/event/line-dancing/2027-06-09/
LOCATION:Jimmy Furlow Senior Citizen Center
ATTACH;FMTTYPE=image/png:https://brookhavenrecreation.com/wp-content/uploads/2025/10/Designer-1.png
END:VEVENT
BEGIN:VEVENT
DTSTART;TZID=America/Detroit:20270610T083000
DTEND;TZID=America/Detroit:20270610T083000
DTSTAMP:20260425T180712
CREATED:20251024T190615Z
LAST-MODIFIED:20251024T190615Z
UID:10003360-1812616200-1812616200@brookhavenrecreation.com
SUMMARY:Walking Club
DESCRIPTION:Indoor walking club helps with mobility\, weight loss\, and socialization.
URL:https://brookhavenrecreation.com/event/walking-club/2027-06-10/
LOCATION:Jimmy Furlow Senior Citizen Center
ATTACH;FMTTYPE=image/png:https://brookhavenrecreation.com/wp-content/uploads/2025/10/Designer-1.png
END:VEVENT
BEGIN:VEVENT
DTSTART;TZID=America/Detroit:20270610T100000
DTEND;TZID=America/Detroit:20270610T110000
DTSTAMP:20260425T180712
CREATED:20251024T182944Z
LAST-MODIFIED:20251024T182944Z
UID:10002476-1812621600-1812625200@brookhavenrecreation.com
SUMMARY:Fitness Class (Sit-n-Fit)
DESCRIPTION:Our computer lab is open Monday – Wednesday from 8:00 am- 1:00pm.
URL:https://brookhavenrecreation.com/event/fitness-class-sit-n-fit/2027-06-10/
LOCATION:Jimmy Furlow Senior Citizen Center
ATTACH;FMTTYPE=image/png:https://brookhavenrecreation.com/wp-content/uploads/2025/10/Designer-1.png
END:VEVENT
BEGIN:VEVENT
DTSTART;TZID=America/Detroit:20270610T130000
DTEND;TZID=America/Detroit:20270610T130000
DTSTAMP:20260425T180712
CREATED:20251024T190957Z
LAST-MODIFIED:20251024T190957Z
UID:10004210-1812632400-1812632400@brookhavenrecreation.com
SUMMARY:Bingo
DESCRIPTION:Bingo meets Thursdays at 1:00pm and is open to the public\, just bring a wrapped gift ($10 minimum value).
URL:https://brookhavenrecreation.com/event/bingo/2027-06-10/
LOCATION:Jimmy Furlow Senior Citizen Center
ATTACH;FMTTYPE=image/png:https://brookhavenrecreation.com/wp-content/uploads/2025/10/Designer-1.png
END:VEVENT
BEGIN:VEVENT
DTSTART;TZID=America/Detroit:20270610T140000
DTEND;TZID=America/Detroit:20270610T140000
DTSTAMP:20260425T180712
CREATED:20251024T191338Z
LAST-MODIFIED:20251024T191338Z
UID:10005262-1812636000-1812636000@brookhavenrecreation.com
SUMMARY:Rummy Club
DESCRIPTION:Rummy club meets Thursdays at 2:00 pm. This group has participation requirements. Contact us for more information: 601-835-5076.
URL:https://brookhavenrecreation.com/event/rummy-club/2027-06-10/
LOCATION:Jimmy Furlow Senior Citizen Center
ATTACH;FMTTYPE=image/png:https://brookhavenrecreation.com/wp-content/uploads/2025/10/Designer-1.png
END:VEVENT
BEGIN:VEVENT
DTSTART;TZID=America/Detroit:20270610T160000
DTEND;TZID=America/Detroit:20270610T160000
DTSTAMP:20260425T180712
CREATED:20251024T191653Z
LAST-MODIFIED:20251024T191653Z
UID:10006773-1812643200-1812643200@brookhavenrecreation.com
SUMMARY:American Legion
DESCRIPTION:American Legion meets once a month. This group has participation requirements. Contact us for more information: 601-835-5076.
URL:https://brookhavenrecreation.com/event/american-legion/2027-06-10/
LOCATION:Jimmy Furlow Senior Citizen Center
ATTACH;FMTTYPE=image/png:https://brookhavenrecreation.com/wp-content/uploads/2025/10/Designer-1.png
END:VEVENT
BEGIN:VEVENT
DTSTART;TZID=America/Detroit:20270611T083000
DTEND;TZID=America/Detroit:20270611T083000
DTSTAMP:20260425T180712
CREATED:20251024T191854Z
LAST-MODIFIED:20251024T191854Z
UID:10007487-1812702600-1812702600@brookhavenrecreation.com
SUMMARY:Soul Dancing
DESCRIPTION:Is a fun and social way to enjoy music and exercise\, with choreographed steps that are performed in sync by a group of dancers.
URL:https://brookhavenrecreation.com/event/soul-dancing/2027-06-11/
LOCATION:Jimmy Furlow Senior Citizen Center
ATTACH;FMTTYPE=image/png:https://brookhavenrecreation.com/wp-content/uploads/2025/10/Designer-1.png
END:VEVENT
BEGIN:VEVENT
DTSTART;TZID=America/Detroit:20270611T110000
DTEND;TZID=America/Detroit:20270611T110000
DTSTAMP:20260425T180712
CREATED:20251024T191407Z
LAST-MODIFIED:20251024T191407Z
UID:10005788-1812711600-1812711600@brookhavenrecreation.com
SUMMARY:Card Sharks
DESCRIPTION:Card Sharks meets Fridays at 11:00 am. This group has participation requirements. Contact us for more information: 601-835-5076.
URL:https://brookhavenrecreation.com/event/card-sharks/2027-06-11/
LOCATION:Jimmy Furlow Senior Citizen Center
ATTACH;FMTTYPE=image/png:https://brookhavenrecreation.com/wp-content/uploads/2025/10/Designer-1.png
END:VEVENT
BEGIN:VEVENT
DTSTART;TZID=America/Detroit:20270614T081000
DTEND;TZID=America/Detroit:20270614T103000
DTSTAMP:20260425T180712
CREATED:20251024T181946Z
LAST-MODIFIED:20251024T182041Z
UID:10000782-1812960600-1812969000@brookhavenrecreation.com
SUMMARY:Line Dancing
DESCRIPTION:Is a fun and social way to enjoy music and exercise\, with choreographed steps that are performed in sync by a group of dancers.
URL:https://brookhavenrecreation.com/event/line-dancing/2027-06-14/
LOCATION:Jimmy Furlow Senior Citizen Center
ATTACH;FMTTYPE=image/png:https://brookhavenrecreation.com/wp-content/uploads/2025/10/Designer-1.png
END:VEVENT
BEGIN:VEVENT
DTSTART;TZID=America/Detroit:20270614T113000
DTEND;TZID=America/Detroit:20270614T113000
DTSTAMP:20260425T180712
CREATED:20251024T191617Z
LAST-MODIFIED:20251024T191617Z
UID:10006314-1812972600-1812972600@brookhavenrecreation.com
SUMMARY:Bunco
DESCRIPTION:Bunco meets Mondays at 11:30 am. This group has participation requirements. Contact us for more information: 601-835-5076.
URL:https://brookhavenrecreation.com/event/bunco/2027-06-14/
LOCATION:Jimmy Furlow Senior Citizen Center
ATTACH;FMTTYPE=image/png:https://brookhavenrecreation.com/wp-content/uploads/2025/10/Designer-1.png
END:VEVENT
END:VCALENDAR