BEGIN:VCALENDAR
VERSION:2.0
PRODID:-//Brookhaven Parks &amp; Playgrounds - ECPv6.15.10//NONSGML v1.0//EN
CALSCALE:GREGORIAN
METHOD:PUBLISH
X-WR-CALNAME:Brookhaven Parks &amp; Playgrounds
X-ORIGINAL-URL:https://brookhavenrecreation.com
X-WR-CALDESC:Events for Brookhaven Parks &amp; Playgrounds
REFRESH-INTERVAL;VALUE=DURATION:PT1H
X-Robots-Tag:noindex
X-PUBLISHED-TTL:PT1H
BEGIN:VTIMEZONE
TZID:America/Detroit
BEGIN:DAYLIGHT
TZOFFSETFROM:-0500
TZOFFSETTO:-0400
TZNAME:EDT
DTSTART:20240310T070000
END:DAYLIGHT
BEGIN:STANDARD
TZOFFSETFROM:-0400
TZOFFSETTO:-0500
TZNAME:EST
DTSTART:20241103T060000
END:STANDARD
BEGIN:DAYLIGHT
TZOFFSETFROM:-0500
TZOFFSETTO:-0400
TZNAME:EDT
DTSTART:20250309T070000
END:DAYLIGHT
BEGIN:STANDARD
TZOFFSETFROM:-0400
TZOFFSETTO:-0500
TZNAME:EST
DTSTART:20251102T060000
END:STANDARD
BEGIN:DAYLIGHT
TZOFFSETFROM:-0500
TZOFFSETTO:-0400
TZNAME:EDT
DTSTART:20260308T070000
END:DAYLIGHT
BEGIN:STANDARD
TZOFFSETFROM:-0400
TZOFFSETTO:-0500
TZNAME:EST
DTSTART:20261101T060000
END:STANDARD
END:VTIMEZONE
BEGIN:VEVENT
DTSTART;TZID=America/Detroit:20251103T000000
DTEND;TZID=America/Detroit:20251103T235959
DTSTAMP:20260421T181909
CREATED:20251024T182642Z
LAST-MODIFIED:20251024T191948Z
UID:10001659-1762128000-1762214399@brookhavenrecreation.com
SUMMARY:Jammin Sesion
DESCRIPTION:Meets 1st and 3rd Monday of each month at 1:00pm. “Picken” and “Grinnen” just for fun! Come play an instrument\, clap or sing along- all are welcome!
URL:https://brookhavenrecreation.com/event/jammin-sesion/2025-11-03/
LOCATION:Jimmy Furlow Senior Citizen Center
ATTACH;FMTTYPE=image/png:https://brookhavenrecreation.com/wp-content/uploads/2025/10/Designer-1.png
END:VEVENT
BEGIN:VEVENT
DTSTART;TZID=America/Detroit:20251103T081000
DTEND;TZID=America/Detroit:20251103T103000
DTSTAMP:20260421T181909
CREATED:20251024T181946Z
LAST-MODIFIED:20251024T182041Z
UID:10000614-1762157400-1762165800@brookhavenrecreation.com
SUMMARY:Line Dancing
DESCRIPTION:Is a fun and social way to enjoy music and exercise\, with choreographed steps that are performed in sync by a group of dancers.
URL:https://brookhavenrecreation.com/event/line-dancing/2025-11-03/
LOCATION:Jimmy Furlow Senior Citizen Center
ATTACH;FMTTYPE=image/png:https://brookhavenrecreation.com/wp-content/uploads/2025/10/Designer-1.png
END:VEVENT
BEGIN:VEVENT
DTSTART;TZID=America/Detroit:20251103T113000
DTEND;TZID=America/Detroit:20251103T113000
DTSTAMP:20260421T181909
CREATED:20251024T191617Z
LAST-MODIFIED:20251024T191617Z
UID:10006230-1762169400-1762169400@brookhavenrecreation.com
SUMMARY:Bunco
DESCRIPTION:Bunco meets Mondays at 11:30 am. This group has participation requirements. Contact us for more information: 601-835-5076.
URL:https://brookhavenrecreation.com/event/bunco/2025-11-03/
LOCATION:Jimmy Furlow Senior Citizen Center
ATTACH;FMTTYPE=image/png:https://brookhavenrecreation.com/wp-content/uploads/2025/10/Designer-1.png
END:VEVENT
BEGIN:VEVENT
DTSTART;TZID=America/Detroit:20251104T100000
DTEND;TZID=America/Detroit:20251104T110000
DTSTAMP:20260421T181909
CREATED:20251024T182944Z
LAST-MODIFIED:20251024T182944Z
UID:10002309-1762250400-1762254000@brookhavenrecreation.com
SUMMARY:Fitness Class (Sit-n-Fit)
DESCRIPTION:Our computer lab is open Monday – Wednesday from 8:00 am- 1:00pm.
URL:https://brookhavenrecreation.com/event/fitness-class-sit-n-fit/2025-11-04/
LOCATION:Jimmy Furlow Senior Citizen Center
ATTACH;FMTTYPE=image/png:https://brookhavenrecreation.com/wp-content/uploads/2025/10/Designer-1.png
END:VEVENT
BEGIN:VEVENT
DTSTART;TZID=America/Detroit:20251104T130000
DTEND;TZID=America/Detroit:20251104T130000
DTSTAMP:20260421T181909
CREATED:20251024T191039Z
LAST-MODIFIED:20251024T191039Z
UID:10004653-1762261200-1762261200@brookhavenrecreation.com
SUMMARY:Bridge Group
DESCRIPTION:Bridge Group meets Tuesdays at 1:00 pm. This group has participation requirements. Contact us for more information: 601-835-5076.
URL:https://brookhavenrecreation.com/event/bridge-group/2025-11-04/
LOCATION:Jimmy Furlow Senior Citizen Center
ATTACH;FMTTYPE=image/png:https://brookhavenrecreation.com/wp-content/uploads/2025/10/Designer-1.png
END:VEVENT
BEGIN:VEVENT
DTSTART;TZID=America/Detroit:20251105T080000
DTEND;TZID=America/Detroit:20251105T130000
DTSTAMP:20260421T181909
CREATED:20251024T181619Z
LAST-MODIFIED:20251024T182057Z
UID:10000089-1762329600-1762347600@brookhavenrecreation.com
SUMMARY:Computer Lab
DESCRIPTION:Our computer lab is open Monday – Wednesday from 8:00 am- 1:00pm.
URL:https://brookhavenrecreation.com/event/computer-lab/2025-11-05/
LOCATION:Jimmy Furlow Senior Citizen Center
ATTACH;FMTTYPE=image/png:https://brookhavenrecreation.com/wp-content/uploads/2025/10/Designer-1.png
END:VEVENT
BEGIN:VEVENT
DTSTART;TZID=America/Detroit:20251105T081000
DTEND;TZID=America/Detroit:20251105T103000
DTSTAMP:20260421T181909
CREATED:20251024T181946Z
LAST-MODIFIED:20251024T182041Z
UID:10000615-1762330200-1762338600@brookhavenrecreation.com
SUMMARY:Line Dancing
DESCRIPTION:Is a fun and social way to enjoy music and exercise\, with choreographed steps that are performed in sync by a group of dancers.
URL:https://brookhavenrecreation.com/event/line-dancing/2025-11-05/
LOCATION:Jimmy Furlow Senior Citizen Center
ATTACH;FMTTYPE=image/png:https://brookhavenrecreation.com/wp-content/uploads/2025/10/Designer-1.png
END:VEVENT
BEGIN:VEVENT
DTSTART;TZID=America/Detroit:20251106T083000
DTEND;TZID=America/Detroit:20251106T083000
DTSTAMP:20260421T181909
CREATED:20251024T190615Z
LAST-MODIFIED:20251024T190615Z
UID:10003277-1762417800-1762417800@brookhavenrecreation.com
SUMMARY:Walking Club
DESCRIPTION:Indoor walking club helps with mobility\, weight loss\, and socialization.
URL:https://brookhavenrecreation.com/event/walking-club/2025-11-06/
LOCATION:Jimmy Furlow Senior Citizen Center
ATTACH;FMTTYPE=image/png:https://brookhavenrecreation.com/wp-content/uploads/2025/10/Designer-1.png
END:VEVENT
BEGIN:VEVENT
DTSTART;TZID=America/Detroit:20251106T100000
DTEND;TZID=America/Detroit:20251106T110000
DTSTAMP:20260421T181909
CREATED:20251024T182944Z
LAST-MODIFIED:20251024T182944Z
UID:10002310-1762423200-1762426800@brookhavenrecreation.com
SUMMARY:Fitness Class (Sit-n-Fit)
DESCRIPTION:Our computer lab is open Monday – Wednesday from 8:00 am- 1:00pm.
URL:https://brookhavenrecreation.com/event/fitness-class-sit-n-fit/2025-11-06/
LOCATION:Jimmy Furlow Senior Citizen Center
ATTACH;FMTTYPE=image/png:https://brookhavenrecreation.com/wp-content/uploads/2025/10/Designer-1.png
END:VEVENT
BEGIN:VEVENT
DTSTART;TZID=America/Detroit:20251106T130000
DTEND;TZID=America/Detroit:20251106T130000
DTSTAMP:20260421T181909
CREATED:20251024T190957Z
LAST-MODIFIED:20251024T190957Z
UID:10004127-1762434000-1762434000@brookhavenrecreation.com
SUMMARY:Bingo
DESCRIPTION:Bingo meets Thursdays at 1:00pm and is open to the public\, just bring a wrapped gift ($10 minimum value).
URL:https://brookhavenrecreation.com/event/bingo/2025-11-06/
LOCATION:Jimmy Furlow Senior Citizen Center
ATTACH;FMTTYPE=image/png:https://brookhavenrecreation.com/wp-content/uploads/2025/10/Designer-1.png
END:VEVENT
BEGIN:VEVENT
DTSTART;TZID=America/Detroit:20251106T140000
DTEND;TZID=America/Detroit:20251106T140000
DTSTAMP:20260421T181909
CREATED:20251024T191338Z
LAST-MODIFIED:20251024T191338Z
UID:10005179-1762437600-1762437600@brookhavenrecreation.com
SUMMARY:Rummy Club
DESCRIPTION:Rummy club meets Thursdays at 2:00 pm. This group has participation requirements. Contact us for more information: 601-835-5076.
URL:https://brookhavenrecreation.com/event/rummy-club/2025-11-06/
LOCATION:Jimmy Furlow Senior Citizen Center
ATTACH;FMTTYPE=image/png:https://brookhavenrecreation.com/wp-content/uploads/2025/10/Designer-1.png
END:VEVENT
BEGIN:VEVENT
DTSTART;TZID=America/Detroit:20251107T083000
DTEND;TZID=America/Detroit:20251107T083000
DTSTAMP:20260421T181909
CREATED:20251024T191854Z
LAST-MODIFIED:20251024T191854Z
UID:10007404-1762504200-1762504200@brookhavenrecreation.com
SUMMARY:Soul Dancing
DESCRIPTION:Is a fun and social way to enjoy music and exercise\, with choreographed steps that are performed in sync by a group of dancers.
URL:https://brookhavenrecreation.com/event/soul-dancing/2025-11-07/
LOCATION:Jimmy Furlow Senior Citizen Center
ATTACH;FMTTYPE=image/png:https://brookhavenrecreation.com/wp-content/uploads/2025/10/Designer-1.png
END:VEVENT
BEGIN:VEVENT
DTSTART;TZID=America/Detroit:20251107T090000
DTEND;TZID=America/Detroit:20251107T110000
DTSTAMP:20260421T181909
CREATED:20251024T190905Z
LAST-MODIFIED:20251024T190905Z
UID:10004064-1762506000-1762513200@brookhavenrecreation.com
SUMMARY:Trivia Club
DESCRIPTION:Meets 1st Friday of the month 9:00 am-11:00am. Individual or (2) member teams.
URL:https://brookhavenrecreation.com/event/trivia-club/2025-11-07/
LOCATION:Jimmy Furlow Senior Citizen Center
ATTACH;FMTTYPE=image/png:https://brookhavenrecreation.com/wp-content/uploads/2025/10/Designer-1.png
END:VEVENT
BEGIN:VEVENT
DTSTART;TZID=America/Detroit:20251107T110000
DTEND;TZID=America/Detroit:20251107T110000
DTSTAMP:20260421T181909
CREATED:20251024T191407Z
LAST-MODIFIED:20251024T191407Z
UID:10005705-1762513200-1762513200@brookhavenrecreation.com
SUMMARY:Card Sharks
DESCRIPTION:Card Sharks meets Fridays at 11:00 am. This group has participation requirements. Contact us for more information: 601-835-5076.
URL:https://brookhavenrecreation.com/event/card-sharks/2025-11-07/
LOCATION:Jimmy Furlow Senior Citizen Center
ATTACH;FMTTYPE=image/png:https://brookhavenrecreation.com/wp-content/uploads/2025/10/Designer-1.png
END:VEVENT
BEGIN:VEVENT
DTSTART;TZID=America/Detroit:20251110T081000
DTEND;TZID=America/Detroit:20251110T103000
DTSTAMP:20260421T181909
CREATED:20251024T181946Z
LAST-MODIFIED:20251024T182041Z
UID:10000616-1762762200-1762770600@brookhavenrecreation.com
SUMMARY:Line Dancing
DESCRIPTION:Is a fun and social way to enjoy music and exercise\, with choreographed steps that are performed in sync by a group of dancers.
URL:https://brookhavenrecreation.com/event/line-dancing/2025-11-10/
LOCATION:Jimmy Furlow Senior Citizen Center
ATTACH;FMTTYPE=image/png:https://brookhavenrecreation.com/wp-content/uploads/2025/10/Designer-1.png
END:VEVENT
BEGIN:VEVENT
DTSTART;TZID=America/Detroit:20251110T113000
DTEND;TZID=America/Detroit:20251110T113000
DTSTAMP:20260421T181909
CREATED:20251024T191617Z
LAST-MODIFIED:20251024T191617Z
UID:10006231-1762774200-1762774200@brookhavenrecreation.com
SUMMARY:Bunco
DESCRIPTION:Bunco meets Mondays at 11:30 am. This group has participation requirements. Contact us for more information: 601-835-5076.
URL:https://brookhavenrecreation.com/event/bunco/2025-11-10/
LOCATION:Jimmy Furlow Senior Citizen Center
ATTACH;FMTTYPE=image/png:https://brookhavenrecreation.com/wp-content/uploads/2025/10/Designer-1.png
END:VEVENT
BEGIN:VEVENT
DTSTART;TZID=America/Detroit:20251111T100000
DTEND;TZID=America/Detroit:20251111T110000
DTSTAMP:20260421T181909
CREATED:20251024T182944Z
LAST-MODIFIED:20251024T182944Z
UID:10002311-1762855200-1762858800@brookhavenrecreation.com
SUMMARY:Fitness Class (Sit-n-Fit)
DESCRIPTION:Our computer lab is open Monday – Wednesday from 8:00 am- 1:00pm.
URL:https://brookhavenrecreation.com/event/fitness-class-sit-n-fit/2025-11-11/
LOCATION:Jimmy Furlow Senior Citizen Center
ATTACH;FMTTYPE=image/png:https://brookhavenrecreation.com/wp-content/uploads/2025/10/Designer-1.png
END:VEVENT
BEGIN:VEVENT
DTSTART;TZID=America/Detroit:20251111T120000
DTEND;TZID=America/Detroit:20251111T160000
DTSTAMP:20260421T181909
CREATED:20251024T183128Z
LAST-MODIFIED:20251024T183128Z
UID:10003092-1762862400-1762876800@brookhavenrecreation.com
SUMMARY:Homemakers Club
DESCRIPTION:This club is with Mississippi State Extension service\, they teach a variety of things. Teach a variety of things\, such as canning\, gardening\, sewing\, nutrition etc.
URL:https://brookhavenrecreation.com/event/homemakers-club/2025-11-11/
LOCATION:Jimmy Furlow Senior Citizen Center
ATTACH;FMTTYPE=image/png:https://brookhavenrecreation.com/wp-content/uploads/2025/10/Designer-1.png
END:VEVENT
BEGIN:VEVENT
DTSTART;TZID=America/Detroit:20251111T120000
DTEND;TZID=America/Detroit:20251111T160000
DTSTAMP:20260421T181909
CREATED:20251024T190510Z
LAST-MODIFIED:20251024T190510Z
UID:10003153-1762862400-1762876800@brookhavenrecreation.com
SUMMARY:Homemakers Club
DESCRIPTION:This club is with Mississippi State Extension service\, they teach a variety of things. Teach a variety of things\, such as canning\, gardening\, sewing\, nutrition etc.
URL:https://brookhavenrecreation.com/event/homemakers-club-2/2025-11-11/
LOCATION:Jimmy Furlow Senior Citizen Center
ATTACH;FMTTYPE=image/png:https://brookhavenrecreation.com/wp-content/uploads/2025/10/Designer-1.png
END:VEVENT
BEGIN:VEVENT
DTSTART;TZID=America/Detroit:20251111T130000
DTEND;TZID=America/Detroit:20251111T130000
DTSTAMP:20260421T181909
CREATED:20251024T191039Z
LAST-MODIFIED:20251024T191039Z
UID:10004654-1762866000-1762866000@brookhavenrecreation.com
SUMMARY:Bridge Group
DESCRIPTION:Bridge Group meets Tuesdays at 1:00 pm. This group has participation requirements. Contact us for more information: 601-835-5076.
URL:https://brookhavenrecreation.com/event/bridge-group/2025-11-11/
LOCATION:Jimmy Furlow Senior Citizen Center
ATTACH;FMTTYPE=image/png:https://brookhavenrecreation.com/wp-content/uploads/2025/10/Designer-1.png
END:VEVENT
BEGIN:VEVENT
DTSTART;TZID=America/Detroit:20251112T000000
DTEND;TZID=America/Detroit:20251112T235959
DTSTAMP:20260421T181909
CREATED:20251024T191750Z
LAST-MODIFIED:20251024T191750Z
UID:10007078-1762905600-1762991999@brookhavenrecreation.com
SUMMARY:Piecemakers Quilting Club
DESCRIPTION:Piecemakers Quilting Club meets once a month. This group has participation requirements. Contact us for more information: 601-835-5076.
URL:https://brookhavenrecreation.com/event/piecemakers-quilting-club/2025-11-12/
LOCATION:Jimmy Furlow Senior Citizen Center
ATTACH;FMTTYPE=image/png:https://brookhavenrecreation.com/wp-content/uploads/2025/10/Designer-1.png
END:VEVENT
BEGIN:VEVENT
DTSTART;TZID=America/Detroit:20251112T080000
DTEND;TZID=America/Detroit:20251112T130000
DTSTAMP:20260421T181909
CREATED:20251024T181619Z
LAST-MODIFIED:20251024T182057Z
UID:10000090-1762934400-1762952400@brookhavenrecreation.com
SUMMARY:Computer Lab
DESCRIPTION:Our computer lab is open Monday – Wednesday from 8:00 am- 1:00pm.
URL:https://brookhavenrecreation.com/event/computer-lab/2025-11-12/
LOCATION:Jimmy Furlow Senior Citizen Center
ATTACH;FMTTYPE=image/png:https://brookhavenrecreation.com/wp-content/uploads/2025/10/Designer-1.png
END:VEVENT
BEGIN:VEVENT
DTSTART;TZID=America/Detroit:20251112T081000
DTEND;TZID=America/Detroit:20251112T103000
DTSTAMP:20260421T181909
CREATED:20251024T181946Z
LAST-MODIFIED:20251024T182041Z
UID:10000617-1762935000-1762943400@brookhavenrecreation.com
SUMMARY:Line Dancing
DESCRIPTION:Is a fun and social way to enjoy music and exercise\, with choreographed steps that are performed in sync by a group of dancers.
URL:https://brookhavenrecreation.com/event/line-dancing/2025-11-12/
LOCATION:Jimmy Furlow Senior Citizen Center
ATTACH;FMTTYPE=image/png:https://brookhavenrecreation.com/wp-content/uploads/2025/10/Designer-1.png
END:VEVENT
BEGIN:VEVENT
DTSTART;TZID=America/Detroit:20251113T083000
DTEND;TZID=America/Detroit:20251113T083000
DTSTAMP:20260421T181909
CREATED:20251024T190615Z
LAST-MODIFIED:20251024T190615Z
UID:10003278-1763022600-1763022600@brookhavenrecreation.com
SUMMARY:Walking Club
DESCRIPTION:Indoor walking club helps with mobility\, weight loss\, and socialization.
URL:https://brookhavenrecreation.com/event/walking-club/2025-11-13/
LOCATION:Jimmy Furlow Senior Citizen Center
ATTACH;FMTTYPE=image/png:https://brookhavenrecreation.com/wp-content/uploads/2025/10/Designer-1.png
END:VEVENT
BEGIN:VEVENT
DTSTART;TZID=America/Detroit:20251113T100000
DTEND;TZID=America/Detroit:20251113T110000
DTSTAMP:20260421T181909
CREATED:20251024T182944Z
LAST-MODIFIED:20251024T182944Z
UID:10002312-1763028000-1763031600@brookhavenrecreation.com
SUMMARY:Fitness Class (Sit-n-Fit)
DESCRIPTION:Our computer lab is open Monday – Wednesday from 8:00 am- 1:00pm.
URL:https://brookhavenrecreation.com/event/fitness-class-sit-n-fit/2025-11-13/
LOCATION:Jimmy Furlow Senior Citizen Center
ATTACH;FMTTYPE=image/png:https://brookhavenrecreation.com/wp-content/uploads/2025/10/Designer-1.png
END:VEVENT
BEGIN:VEVENT
DTSTART;TZID=America/Detroit:20251113T130000
DTEND;TZID=America/Detroit:20251113T130000
DTSTAMP:20260421T181909
CREATED:20251024T190957Z
LAST-MODIFIED:20251024T190957Z
UID:10004128-1763038800-1763038800@brookhavenrecreation.com
SUMMARY:Bingo
DESCRIPTION:Bingo meets Thursdays at 1:00pm and is open to the public\, just bring a wrapped gift ($10 minimum value).
URL:https://brookhavenrecreation.com/event/bingo/2025-11-13/
LOCATION:Jimmy Furlow Senior Citizen Center
ATTACH;FMTTYPE=image/png:https://brookhavenrecreation.com/wp-content/uploads/2025/10/Designer-1.png
END:VEVENT
BEGIN:VEVENT
DTSTART;TZID=America/Detroit:20251113T140000
DTEND;TZID=America/Detroit:20251113T140000
DTSTAMP:20260421T181909
CREATED:20251024T191338Z
LAST-MODIFIED:20251024T191338Z
UID:10005180-1763042400-1763042400@brookhavenrecreation.com
SUMMARY:Rummy Club
DESCRIPTION:Rummy club meets Thursdays at 2:00 pm. This group has participation requirements. Contact us for more information: 601-835-5076.
URL:https://brookhavenrecreation.com/event/rummy-club/2025-11-13/
LOCATION:Jimmy Furlow Senior Citizen Center
ATTACH;FMTTYPE=image/png:https://brookhavenrecreation.com/wp-content/uploads/2025/10/Designer-1.png
END:VEVENT
BEGIN:VEVENT
DTSTART;TZID=America/Detroit:20251113T160000
DTEND;TZID=America/Detroit:20251113T160000
DTSTAMP:20260421T181909
CREATED:20251024T191653Z
LAST-MODIFIED:20251024T191653Z
UID:10006754-1763049600-1763049600@brookhavenrecreation.com
SUMMARY:American Legion
DESCRIPTION:American Legion meets once a month. This group has participation requirements. Contact us for more information: 601-835-5076.
URL:https://brookhavenrecreation.com/event/american-legion/2025-11-13/
LOCATION:Jimmy Furlow Senior Citizen Center
ATTACH;FMTTYPE=image/png:https://brookhavenrecreation.com/wp-content/uploads/2025/10/Designer-1.png
END:VEVENT
BEGIN:VEVENT
DTSTART;TZID=America/Detroit:20251114T083000
DTEND;TZID=America/Detroit:20251114T083000
DTSTAMP:20260421T181909
CREATED:20251024T191854Z
LAST-MODIFIED:20251024T191854Z
UID:10007405-1763109000-1763109000@brookhavenrecreation.com
SUMMARY:Soul Dancing
DESCRIPTION:Is a fun and social way to enjoy music and exercise\, with choreographed steps that are performed in sync by a group of dancers.
URL:https://brookhavenrecreation.com/event/soul-dancing/2025-11-14/
LOCATION:Jimmy Furlow Senior Citizen Center
ATTACH;FMTTYPE=image/png:https://brookhavenrecreation.com/wp-content/uploads/2025/10/Designer-1.png
END:VEVENT
BEGIN:VEVENT
DTSTART;TZID=America/Detroit:20251114T110000
DTEND;TZID=America/Detroit:20251114T110000
DTSTAMP:20260421T181909
CREATED:20251024T191407Z
LAST-MODIFIED:20251024T191407Z
UID:10005706-1763118000-1763118000@brookhavenrecreation.com
SUMMARY:Card Sharks
DESCRIPTION:Card Sharks meets Fridays at 11:00 am. This group has participation requirements. Contact us for more information: 601-835-5076.
URL:https://brookhavenrecreation.com/event/card-sharks/2025-11-14/
LOCATION:Jimmy Furlow Senior Citizen Center
ATTACH;FMTTYPE=image/png:https://brookhavenrecreation.com/wp-content/uploads/2025/10/Designer-1.png
END:VEVENT
END:VCALENDAR