BEGIN:VCALENDAR
VERSION:2.0
PRODID:-//Brookhaven Parks &amp; Playgrounds - ECPv6.15.10//NONSGML v1.0//EN
CALSCALE:GREGORIAN
METHOD:PUBLISH
X-WR-CALNAME:Brookhaven Parks &amp; Playgrounds
X-ORIGINAL-URL:https://brookhavenrecreation.com
X-WR-CALDESC:Events for Brookhaven Parks &amp; Playgrounds
REFRESH-INTERVAL;VALUE=DURATION:PT1H
X-Robots-Tag:noindex
X-PUBLISHED-TTL:PT1H
BEGIN:VTIMEZONE
TZID:America/Detroit
BEGIN:DAYLIGHT
TZOFFSETFROM:-0500
TZOFFSETTO:-0400
TZNAME:EDT
DTSTART:20250309T070000
END:DAYLIGHT
BEGIN:STANDARD
TZOFFSETFROM:-0400
TZOFFSETTO:-0500
TZNAME:EST
DTSTART:20251102T060000
END:STANDARD
BEGIN:DAYLIGHT
TZOFFSETFROM:-0500
TZOFFSETTO:-0400
TZNAME:EDT
DTSTART:20260308T070000
END:DAYLIGHT
BEGIN:STANDARD
TZOFFSETFROM:-0400
TZOFFSETTO:-0500
TZNAME:EST
DTSTART:20261101T060000
END:STANDARD
BEGIN:DAYLIGHT
TZOFFSETFROM:-0500
TZOFFSETTO:-0400
TZNAME:EDT
DTSTART:20270314T070000
END:DAYLIGHT
BEGIN:STANDARD
TZOFFSETFROM:-0400
TZOFFSETTO:-0500
TZNAME:EST
DTSTART:20271107T060000
END:STANDARD
END:VTIMEZONE
BEGIN:VEVENT
DTSTART;TZID=America/Detroit:20260210T120000
DTEND;TZID=America/Detroit:20260210T160000
DTSTAMP:20260422T190547
CREATED:20251024T190510Z
LAST-MODIFIED:20251024T190510Z
UID:10003156-1770724800-1770739200@brookhavenrecreation.com
SUMMARY:Homemakers Club
DESCRIPTION:This club is with Mississippi State Extension service\, they teach a variety of things. Teach a variety of things\, such as canning\, gardening\, sewing\, nutrition etc.
URL:https://brookhavenrecreation.com/event/homemakers-club-2/2026-02-10/
LOCATION:Jimmy Furlow Senior Citizen Center
ATTACH;FMTTYPE=image/png:https://brookhavenrecreation.com/wp-content/uploads/2025/10/Designer-1.png
END:VEVENT
BEGIN:VEVENT
DTSTART;TZID=America/Detroit:20260210T120000
DTEND;TZID=America/Detroit:20260210T160000
DTSTAMP:20260422T190547
CREATED:20251024T183128Z
LAST-MODIFIED:20251024T183128Z
UID:10003095-1770724800-1770739200@brookhavenrecreation.com
SUMMARY:Homemakers Club
DESCRIPTION:This club is with Mississippi State Extension service\, they teach a variety of things. Teach a variety of things\, such as canning\, gardening\, sewing\, nutrition etc.
URL:https://brookhavenrecreation.com/event/homemakers-club/2026-02-10/
LOCATION:Jimmy Furlow Senior Citizen Center
ATTACH;FMTTYPE=image/png:https://brookhavenrecreation.com/wp-content/uploads/2025/10/Designer-1.png
END:VEVENT
BEGIN:VEVENT
DTSTART;TZID=America/Detroit:20260210T100000
DTEND;TZID=America/Detroit:20260210T110000
DTSTAMP:20260422T190547
CREATED:20251024T182944Z
LAST-MODIFIED:20251024T182944Z
UID:10002337-1770717600-1770721200@brookhavenrecreation.com
SUMMARY:Fitness Class (Sit-n-Fit)
DESCRIPTION:Our computer lab is open Monday – Wednesday from 8:00 am- 1:00pm.
URL:https://brookhavenrecreation.com/event/fitness-class-sit-n-fit/2026-02-10/
LOCATION:Jimmy Furlow Senior Citizen Center
ATTACH;FMTTYPE=image/png:https://brookhavenrecreation.com/wp-content/uploads/2025/10/Designer-1.png
END:VEVENT
BEGIN:VEVENT
DTSTART;TZID=America/Detroit:20260209T113000
DTEND;TZID=America/Detroit:20260209T113000
DTSTAMP:20260422T190547
CREATED:20251024T191617Z
LAST-MODIFIED:20251024T191617Z
UID:10006244-1770636600-1770636600@brookhavenrecreation.com
SUMMARY:Bunco
DESCRIPTION:Bunco meets Mondays at 11:30 am. This group has participation requirements. Contact us for more information: 601-835-5076.
URL:https://brookhavenrecreation.com/event/bunco/2026-02-09/
LOCATION:Jimmy Furlow Senior Citizen Center
ATTACH;FMTTYPE=image/png:https://brookhavenrecreation.com/wp-content/uploads/2025/10/Designer-1.png
END:VEVENT
BEGIN:VEVENT
DTSTART;TZID=America/Detroit:20260209T081000
DTEND;TZID=America/Detroit:20260209T103000
DTSTAMP:20260422T190547
CREATED:20251024T181946Z
LAST-MODIFIED:20251024T182041Z
UID:10000642-1770624600-1770633000@brookhavenrecreation.com
SUMMARY:Line Dancing
DESCRIPTION:Is a fun and social way to enjoy music and exercise\, with choreographed steps that are performed in sync by a group of dancers.
URL:https://brookhavenrecreation.com/event/line-dancing/2026-02-09/
LOCATION:Jimmy Furlow Senior Citizen Center
ATTACH;FMTTYPE=image/png:https://brookhavenrecreation.com/wp-content/uploads/2025/10/Designer-1.png
END:VEVENT
BEGIN:VEVENT
DTSTART;TZID=America/Detroit:20260206T110000
DTEND;TZID=America/Detroit:20260206T110000
DTSTAMP:20260422T190547
CREATED:20251024T191407Z
LAST-MODIFIED:20251024T191407Z
UID:10005718-1770375600-1770375600@brookhavenrecreation.com
SUMMARY:Card Sharks
DESCRIPTION:Card Sharks meets Fridays at 11:00 am. This group has participation requirements. Contact us for more information: 601-835-5076.
URL:https://brookhavenrecreation.com/event/card-sharks/2026-02-06/
LOCATION:Jimmy Furlow Senior Citizen Center
ATTACH;FMTTYPE=image/png:https://brookhavenrecreation.com/wp-content/uploads/2025/10/Designer-1.png
END:VEVENT
BEGIN:VEVENT
DTSTART;TZID=America/Detroit:20260206T090000
DTEND;TZID=America/Detroit:20260206T110000
DTSTAMP:20260422T190547
CREATED:20251024T190905Z
LAST-MODIFIED:20251024T190905Z
UID:10004067-1770368400-1770375600@brookhavenrecreation.com
SUMMARY:Trivia Club
DESCRIPTION:Meets 1st Friday of the month 9:00 am-11:00am. Individual or (2) member teams.
URL:https://brookhavenrecreation.com/event/trivia-club/2026-02-06/
LOCATION:Jimmy Furlow Senior Citizen Center
ATTACH;FMTTYPE=image/png:https://brookhavenrecreation.com/wp-content/uploads/2025/10/Designer-1.png
END:VEVENT
BEGIN:VEVENT
DTSTART;TZID=America/Detroit:20260206T083000
DTEND;TZID=America/Detroit:20260206T083000
DTSTAMP:20260422T190547
CREATED:20251024T191854Z
LAST-MODIFIED:20251024T191854Z
UID:10007417-1770366600-1770366600@brookhavenrecreation.com
SUMMARY:Soul Dancing
DESCRIPTION:Is a fun and social way to enjoy music and exercise\, with choreographed steps that are performed in sync by a group of dancers.
URL:https://brookhavenrecreation.com/event/soul-dancing/2026-02-06/
LOCATION:Jimmy Furlow Senior Citizen Center
ATTACH;FMTTYPE=image/png:https://brookhavenrecreation.com/wp-content/uploads/2025/10/Designer-1.png
END:VEVENT
BEGIN:VEVENT
DTSTART;TZID=America/Detroit:20260205T140000
DTEND;TZID=America/Detroit:20260205T140000
DTSTAMP:20260422T190547
CREATED:20251024T191338Z
LAST-MODIFIED:20251024T191338Z
UID:10005192-1770300000-1770300000@brookhavenrecreation.com
SUMMARY:Rummy Club
DESCRIPTION:Rummy club meets Thursdays at 2:00 pm. This group has participation requirements. Contact us for more information: 601-835-5076.
URL:https://brookhavenrecreation.com/event/rummy-club/2026-02-05/
LOCATION:Jimmy Furlow Senior Citizen Center
ATTACH;FMTTYPE=image/png:https://brookhavenrecreation.com/wp-content/uploads/2025/10/Designer-1.png
END:VEVENT
BEGIN:VEVENT
DTSTART;TZID=America/Detroit:20260205T130000
DTEND;TZID=America/Detroit:20260205T130000
DTSTAMP:20260422T190547
CREATED:20251024T190957Z
LAST-MODIFIED:20251024T190957Z
UID:10004140-1770296400-1770296400@brookhavenrecreation.com
SUMMARY:Bingo
DESCRIPTION:Bingo meets Thursdays at 1:00pm and is open to the public\, just bring a wrapped gift ($10 minimum value).
URL:https://brookhavenrecreation.com/event/bingo/2026-02-05/
LOCATION:Jimmy Furlow Senior Citizen Center
ATTACH;FMTTYPE=image/png:https://brookhavenrecreation.com/wp-content/uploads/2025/10/Designer-1.png
END:VEVENT
BEGIN:VEVENT
DTSTART;TZID=America/Detroit:20260205T100000
DTEND;TZID=America/Detroit:20260205T110000
DTSTAMP:20260422T190547
CREATED:20251024T182944Z
LAST-MODIFIED:20251024T182944Z
UID:10002336-1770285600-1770289200@brookhavenrecreation.com
SUMMARY:Fitness Class (Sit-n-Fit)
DESCRIPTION:Our computer lab is open Monday – Wednesday from 8:00 am- 1:00pm.
URL:https://brookhavenrecreation.com/event/fitness-class-sit-n-fit/2026-02-05/
LOCATION:Jimmy Furlow Senior Citizen Center
ATTACH;FMTTYPE=image/png:https://brookhavenrecreation.com/wp-content/uploads/2025/10/Designer-1.png
END:VEVENT
BEGIN:VEVENT
DTSTART;TZID=America/Detroit:20260205T083000
DTEND;TZID=America/Detroit:20260205T083000
DTSTAMP:20260422T190547
CREATED:20251024T190615Z
LAST-MODIFIED:20251024T190615Z
UID:10003290-1770280200-1770280200@brookhavenrecreation.com
SUMMARY:Walking Club
DESCRIPTION:Indoor walking club helps with mobility\, weight loss\, and socialization.
URL:https://brookhavenrecreation.com/event/walking-club/2026-02-05/
LOCATION:Jimmy Furlow Senior Citizen Center
ATTACH;FMTTYPE=image/png:https://brookhavenrecreation.com/wp-content/uploads/2025/10/Designer-1.png
END:VEVENT
BEGIN:VEVENT
DTSTART;TZID=America/Detroit:20260204T081000
DTEND;TZID=America/Detroit:20260204T103000
DTSTAMP:20260422T190547
CREATED:20251024T181946Z
LAST-MODIFIED:20251024T182041Z
UID:10000641-1770192600-1770201000@brookhavenrecreation.com
SUMMARY:Line Dancing
DESCRIPTION:Is a fun and social way to enjoy music and exercise\, with choreographed steps that are performed in sync by a group of dancers.
URL:https://brookhavenrecreation.com/event/line-dancing/2026-02-04/
LOCATION:Jimmy Furlow Senior Citizen Center
ATTACH;FMTTYPE=image/png:https://brookhavenrecreation.com/wp-content/uploads/2025/10/Designer-1.png
END:VEVENT
BEGIN:VEVENT
DTSTART;TZID=America/Detroit:20260204T080000
DTEND;TZID=America/Detroit:20260204T130000
DTSTAMP:20260422T190547
CREATED:20251024T181619Z
LAST-MODIFIED:20251024T182057Z
UID:10000102-1770192000-1770210000@brookhavenrecreation.com
SUMMARY:Computer Lab
DESCRIPTION:Our computer lab is open Monday – Wednesday from 8:00 am- 1:00pm.
URL:https://brookhavenrecreation.com/event/computer-lab/2026-02-04/
LOCATION:Jimmy Furlow Senior Citizen Center
ATTACH;FMTTYPE=image/png:https://brookhavenrecreation.com/wp-content/uploads/2025/10/Designer-1.png
END:VEVENT
BEGIN:VEVENT
DTSTART;TZID=America/Detroit:20260203T130000
DTEND;TZID=America/Detroit:20260203T130000
DTSTAMP:20260422T190547
CREATED:20251024T191039Z
LAST-MODIFIED:20251024T191039Z
UID:10004666-1770123600-1770123600@brookhavenrecreation.com
SUMMARY:Bridge Group
DESCRIPTION:Bridge Group meets Tuesdays at 1:00 pm. This group has participation requirements. Contact us for more information: 601-835-5076.
URL:https://brookhavenrecreation.com/event/bridge-group/2026-02-03/
LOCATION:Jimmy Furlow Senior Citizen Center
ATTACH;FMTTYPE=image/png:https://brookhavenrecreation.com/wp-content/uploads/2025/10/Designer-1.png
END:VEVENT
BEGIN:VEVENT
DTSTART;TZID=America/Detroit:20260203T100000
DTEND;TZID=America/Detroit:20260203T110000
DTSTAMP:20260422T190547
CREATED:20251024T182944Z
LAST-MODIFIED:20251024T182944Z
UID:10002335-1770112800-1770116400@brookhavenrecreation.com
SUMMARY:Fitness Class (Sit-n-Fit)
DESCRIPTION:Our computer lab is open Monday – Wednesday from 8:00 am- 1:00pm.
URL:https://brookhavenrecreation.com/event/fitness-class-sit-n-fit/2026-02-03/
LOCATION:Jimmy Furlow Senior Citizen Center
ATTACH;FMTTYPE=image/png:https://brookhavenrecreation.com/wp-content/uploads/2025/10/Designer-1.png
END:VEVENT
BEGIN:VEVENT
DTSTART;TZID=America/Detroit:20260202T113000
DTEND;TZID=America/Detroit:20260202T113000
DTSTAMP:20260422T190547
CREATED:20251024T191617Z
LAST-MODIFIED:20251024T191617Z
UID:10006243-1770031800-1770031800@brookhavenrecreation.com
SUMMARY:Bunco
DESCRIPTION:Bunco meets Mondays at 11:30 am. This group has participation requirements. Contact us for more information: 601-835-5076.
URL:https://brookhavenrecreation.com/event/bunco/2026-02-02/
LOCATION:Jimmy Furlow Senior Citizen Center
ATTACH;FMTTYPE=image/png:https://brookhavenrecreation.com/wp-content/uploads/2025/10/Designer-1.png
END:VEVENT
BEGIN:VEVENT
DTSTART;TZID=America/Detroit:20260202T081000
DTEND;TZID=America/Detroit:20260202T103000
DTSTAMP:20260422T190547
CREATED:20251024T181946Z
LAST-MODIFIED:20251024T182041Z
UID:10000640-1770019800-1770028200@brookhavenrecreation.com
SUMMARY:Line Dancing
DESCRIPTION:Is a fun and social way to enjoy music and exercise\, with choreographed steps that are performed in sync by a group of dancers.
URL:https://brookhavenrecreation.com/event/line-dancing/2026-02-02/
LOCATION:Jimmy Furlow Senior Citizen Center
ATTACH;FMTTYPE=image/png:https://brookhavenrecreation.com/wp-content/uploads/2025/10/Designer-1.png
END:VEVENT
BEGIN:VEVENT
DTSTART;TZID=America/Detroit:20260202T000000
DTEND;TZID=America/Detroit:20260202T235959
DTSTAMP:20260422T190547
CREATED:20251024T182642Z
LAST-MODIFIED:20251024T191948Z
UID:10001662-1769990400-1770076799@brookhavenrecreation.com
SUMMARY:Jammin Sesion
DESCRIPTION:Meets 1st and 3rd Monday of each month at 1:00pm. “Picken” and “Grinnen” just for fun! Come play an instrument\, clap or sing along- all are welcome!
URL:https://brookhavenrecreation.com/event/jammin-sesion/2026-02-02/
LOCATION:Jimmy Furlow Senior Citizen Center
ATTACH;FMTTYPE=image/png:https://brookhavenrecreation.com/wp-content/uploads/2025/10/Designer-1.png
END:VEVENT
BEGIN:VEVENT
DTSTART;TZID=America/Detroit:20260130T110000
DTEND;TZID=America/Detroit:20260130T110000
DTSTAMP:20260422T190547
CREATED:20251024T191407Z
LAST-MODIFIED:20251024T191407Z
UID:10005717-1769770800-1769770800@brookhavenrecreation.com
SUMMARY:Card Sharks
DESCRIPTION:Card Sharks meets Fridays at 11:00 am. This group has participation requirements. Contact us for more information: 601-835-5076.
URL:https://brookhavenrecreation.com/event/card-sharks/2026-01-30/
LOCATION:Jimmy Furlow Senior Citizen Center
ATTACH;FMTTYPE=image/png:https://brookhavenrecreation.com/wp-content/uploads/2025/10/Designer-1.png
END:VEVENT
BEGIN:VEVENT
DTSTART;TZID=America/Detroit:20260130T083000
DTEND;TZID=America/Detroit:20260130T083000
DTSTAMP:20260422T190547
CREATED:20251024T191854Z
LAST-MODIFIED:20251024T191854Z
UID:10007416-1769761800-1769761800@brookhavenrecreation.com
SUMMARY:Soul Dancing
DESCRIPTION:Is a fun and social way to enjoy music and exercise\, with choreographed steps that are performed in sync by a group of dancers.
URL:https://brookhavenrecreation.com/event/soul-dancing/2026-01-30/
LOCATION:Jimmy Furlow Senior Citizen Center
ATTACH;FMTTYPE=image/png:https://brookhavenrecreation.com/wp-content/uploads/2025/10/Designer-1.png
END:VEVENT
BEGIN:VEVENT
DTSTART;TZID=America/Detroit:20260129T140000
DTEND;TZID=America/Detroit:20260129T140000
DTSTAMP:20260422T190547
CREATED:20251024T191338Z
LAST-MODIFIED:20251024T191338Z
UID:10005191-1769695200-1769695200@brookhavenrecreation.com
SUMMARY:Rummy Club
DESCRIPTION:Rummy club meets Thursdays at 2:00 pm. This group has participation requirements. Contact us for more information: 601-835-5076.
URL:https://brookhavenrecreation.com/event/rummy-club/2026-01-29/
LOCATION:Jimmy Furlow Senior Citizen Center
ATTACH;FMTTYPE=image/png:https://brookhavenrecreation.com/wp-content/uploads/2025/10/Designer-1.png
END:VEVENT
BEGIN:VEVENT
DTSTART;TZID=America/Detroit:20260129T130000
DTEND;TZID=America/Detroit:20260129T130000
DTSTAMP:20260422T190547
CREATED:20251024T190957Z
LAST-MODIFIED:20251024T190957Z
UID:10004139-1769691600-1769691600@brookhavenrecreation.com
SUMMARY:Bingo
DESCRIPTION:Bingo meets Thursdays at 1:00pm and is open to the public\, just bring a wrapped gift ($10 minimum value).
URL:https://brookhavenrecreation.com/event/bingo/2026-01-29/
LOCATION:Jimmy Furlow Senior Citizen Center
ATTACH;FMTTYPE=image/png:https://brookhavenrecreation.com/wp-content/uploads/2025/10/Designer-1.png
END:VEVENT
BEGIN:VEVENT
DTSTART;TZID=America/Detroit:20260129T100000
DTEND;TZID=America/Detroit:20260129T110000
DTSTAMP:20260422T190547
CREATED:20251024T182944Z
LAST-MODIFIED:20251024T182944Z
UID:10002334-1769680800-1769684400@brookhavenrecreation.com
SUMMARY:Fitness Class (Sit-n-Fit)
DESCRIPTION:Our computer lab is open Monday – Wednesday from 8:00 am- 1:00pm.
URL:https://brookhavenrecreation.com/event/fitness-class-sit-n-fit/2026-01-29/
LOCATION:Jimmy Furlow Senior Citizen Center
ATTACH;FMTTYPE=image/png:https://brookhavenrecreation.com/wp-content/uploads/2025/10/Designer-1.png
END:VEVENT
BEGIN:VEVENT
DTSTART;TZID=America/Detroit:20260129T083000
DTEND;TZID=America/Detroit:20260129T083000
DTSTAMP:20260422T190547
CREATED:20251024T190615Z
LAST-MODIFIED:20251024T190615Z
UID:10003289-1769675400-1769675400@brookhavenrecreation.com
SUMMARY:Walking Club
DESCRIPTION:Indoor walking club helps with mobility\, weight loss\, and socialization.
URL:https://brookhavenrecreation.com/event/walking-club/2026-01-29/
LOCATION:Jimmy Furlow Senior Citizen Center
ATTACH;FMTTYPE=image/png:https://brookhavenrecreation.com/wp-content/uploads/2025/10/Designer-1.png
END:VEVENT
BEGIN:VEVENT
DTSTART;TZID=America/Detroit:20260128T081000
DTEND;TZID=America/Detroit:20260128T103000
DTSTAMP:20260422T190547
CREATED:20251024T181946Z
LAST-MODIFIED:20251024T182041Z
UID:10000639-1769587800-1769596200@brookhavenrecreation.com
SUMMARY:Line Dancing
DESCRIPTION:Is a fun and social way to enjoy music and exercise\, with choreographed steps that are performed in sync by a group of dancers.
URL:https://brookhavenrecreation.com/event/line-dancing/2026-01-28/
LOCATION:Jimmy Furlow Senior Citizen Center
ATTACH;FMTTYPE=image/png:https://brookhavenrecreation.com/wp-content/uploads/2025/10/Designer-1.png
END:VEVENT
BEGIN:VEVENT
DTSTART;TZID=America/Detroit:20260128T080000
DTEND;TZID=America/Detroit:20260128T130000
DTSTAMP:20260422T190547
CREATED:20251024T181619Z
LAST-MODIFIED:20251024T182057Z
UID:10000101-1769587200-1769605200@brookhavenrecreation.com
SUMMARY:Computer Lab
DESCRIPTION:Our computer lab is open Monday – Wednesday from 8:00 am- 1:00pm.
URL:https://brookhavenrecreation.com/event/computer-lab/2026-01-28/
LOCATION:Jimmy Furlow Senior Citizen Center
ATTACH;FMTTYPE=image/png:https://brookhavenrecreation.com/wp-content/uploads/2025/10/Designer-1.png
END:VEVENT
BEGIN:VEVENT
DTSTART;TZID=America/Detroit:20260127T130000
DTEND;TZID=America/Detroit:20260127T130000
DTSTAMP:20260422T190547
CREATED:20251024T191039Z
LAST-MODIFIED:20251024T191039Z
UID:10004665-1769518800-1769518800@brookhavenrecreation.com
SUMMARY:Bridge Group
DESCRIPTION:Bridge Group meets Tuesdays at 1:00 pm. This group has participation requirements. Contact us for more information: 601-835-5076.
URL:https://brookhavenrecreation.com/event/bridge-group/2026-01-27/
LOCATION:Jimmy Furlow Senior Citizen Center
ATTACH;FMTTYPE=image/png:https://brookhavenrecreation.com/wp-content/uploads/2025/10/Designer-1.png
END:VEVENT
BEGIN:VEVENT
DTSTART;TZID=America/Detroit:20260127T100000
DTEND;TZID=America/Detroit:20260127T110000
DTSTAMP:20260422T190547
CREATED:20251024T182944Z
LAST-MODIFIED:20251024T182944Z
UID:10002333-1769508000-1769511600@brookhavenrecreation.com
SUMMARY:Fitness Class (Sit-n-Fit)
DESCRIPTION:Our computer lab is open Monday – Wednesday from 8:00 am- 1:00pm.
URL:https://brookhavenrecreation.com/event/fitness-class-sit-n-fit/2026-01-27/
LOCATION:Jimmy Furlow Senior Citizen Center
ATTACH;FMTTYPE=image/png:https://brookhavenrecreation.com/wp-content/uploads/2025/10/Designer-1.png
END:VEVENT
BEGIN:VEVENT
DTSTART;TZID=America/Detroit:20260126T113000
DTEND;TZID=America/Detroit:20260126T113000
DTSTAMP:20260422T190547
CREATED:20251024T191617Z
LAST-MODIFIED:20251024T191617Z
UID:10006242-1769427000-1769427000@brookhavenrecreation.com
SUMMARY:Bunco
DESCRIPTION:Bunco meets Mondays at 11:30 am. This group has participation requirements. Contact us for more information: 601-835-5076.
URL:https://brookhavenrecreation.com/event/bunco/2026-01-26/
LOCATION:Jimmy Furlow Senior Citizen Center
ATTACH;FMTTYPE=image/png:https://brookhavenrecreation.com/wp-content/uploads/2025/10/Designer-1.png
END:VEVENT
END:VCALENDAR