BEGIN:VCALENDAR
VERSION:2.0
PRODID:-//Brookhaven Parks &amp; Playgrounds - ECPv6.15.10//NONSGML v1.0//EN
CALSCALE:GREGORIAN
METHOD:PUBLISH
X-WR-CALNAME:Brookhaven Parks &amp; Playgrounds
X-ORIGINAL-URL:https://brookhavenrecreation.com
X-WR-CALDESC:Events for Brookhaven Parks &amp; Playgrounds
REFRESH-INTERVAL;VALUE=DURATION:PT1H
X-Robots-Tag:noindex
X-PUBLISHED-TTL:PT1H
BEGIN:VTIMEZONE
TZID:America/Detroit
BEGIN:DAYLIGHT
TZOFFSETFROM:-0500
TZOFFSETTO:-0400
TZNAME:EDT
DTSTART:20240310T070000
END:DAYLIGHT
BEGIN:STANDARD
TZOFFSETFROM:-0400
TZOFFSETTO:-0500
TZNAME:EST
DTSTART:20241103T060000
END:STANDARD
BEGIN:DAYLIGHT
TZOFFSETFROM:-0500
TZOFFSETTO:-0400
TZNAME:EDT
DTSTART:20250309T070000
END:DAYLIGHT
BEGIN:STANDARD
TZOFFSETFROM:-0400
TZOFFSETTO:-0500
TZNAME:EST
DTSTART:20251102T060000
END:STANDARD
BEGIN:DAYLIGHT
TZOFFSETFROM:-0500
TZOFFSETTO:-0400
TZNAME:EDT
DTSTART:20260308T070000
END:DAYLIGHT
BEGIN:STANDARD
TZOFFSETFROM:-0400
TZOFFSETTO:-0500
TZNAME:EST
DTSTART:20261101T060000
END:STANDARD
END:VTIMEZONE
BEGIN:VEVENT
DTSTART;TZID=America/Detroit:20251230T100000
DTEND;TZID=America/Detroit:20251230T110000
DTSTAMP:20260422T185635
CREATED:20251024T182944Z
LAST-MODIFIED:20251024T182944Z
UID:10002325-1767088800-1767092400@brookhavenrecreation.com
SUMMARY:Fitness Class (Sit-n-Fit)
DESCRIPTION:Our computer lab is open Monday – Wednesday from 8:00 am- 1:00pm.
URL:https://brookhavenrecreation.com/event/fitness-class-sit-n-fit/2025-12-30/
LOCATION:Jimmy Furlow Senior Citizen Center
ATTACH;FMTTYPE=image/png:https://brookhavenrecreation.com/wp-content/uploads/2025/10/Designer-1.png
END:VEVENT
BEGIN:VEVENT
DTSTART;TZID=America/Detroit:20251229T113000
DTEND;TZID=America/Detroit:20251229T113000
DTSTAMP:20260422T185635
CREATED:20251024T191617Z
LAST-MODIFIED:20251024T191617Z
UID:10006238-1767007800-1767007800@brookhavenrecreation.com
SUMMARY:Bunco
DESCRIPTION:Bunco meets Mondays at 11:30 am. This group has participation requirements. Contact us for more information: 601-835-5076.
URL:https://brookhavenrecreation.com/event/bunco/2025-12-29/
LOCATION:Jimmy Furlow Senior Citizen Center
ATTACH;FMTTYPE=image/png:https://brookhavenrecreation.com/wp-content/uploads/2025/10/Designer-1.png
END:VEVENT
BEGIN:VEVENT
DTSTART;TZID=America/Detroit:20251229T081000
DTEND;TZID=America/Detroit:20251229T103000
DTSTAMP:20260422T185635
CREATED:20251024T181946Z
LAST-MODIFIED:20251024T182041Z
UID:10000630-1766995800-1767004200@brookhavenrecreation.com
SUMMARY:Line Dancing
DESCRIPTION:Is a fun and social way to enjoy music and exercise\, with choreographed steps that are performed in sync by a group of dancers.
URL:https://brookhavenrecreation.com/event/line-dancing/2025-12-29/
LOCATION:Jimmy Furlow Senior Citizen Center
ATTACH;FMTTYPE=image/png:https://brookhavenrecreation.com/wp-content/uploads/2025/10/Designer-1.png
END:VEVENT
BEGIN:VEVENT
DTSTART;TZID=America/Detroit:20251226T110000
DTEND;TZID=America/Detroit:20251226T110000
DTSTAMP:20260422T185635
CREATED:20251024T191407Z
LAST-MODIFIED:20251024T191407Z
UID:10005712-1766746800-1766746800@brookhavenrecreation.com
SUMMARY:Card Sharks
DESCRIPTION:Card Sharks meets Fridays at 11:00 am. This group has participation requirements. Contact us for more information: 601-835-5076.
URL:https://brookhavenrecreation.com/event/card-sharks/2025-12-26/
LOCATION:Jimmy Furlow Senior Citizen Center
ATTACH;FMTTYPE=image/png:https://brookhavenrecreation.com/wp-content/uploads/2025/10/Designer-1.png
END:VEVENT
BEGIN:VEVENT
DTSTART;TZID=America/Detroit:20251226T083000
DTEND;TZID=America/Detroit:20251226T083000
DTSTAMP:20260422T185635
CREATED:20251024T191854Z
LAST-MODIFIED:20251024T191854Z
UID:10007411-1766737800-1766737800@brookhavenrecreation.com
SUMMARY:Soul Dancing
DESCRIPTION:Is a fun and social way to enjoy music and exercise\, with choreographed steps that are performed in sync by a group of dancers.
URL:https://brookhavenrecreation.com/event/soul-dancing/2025-12-26/
LOCATION:Jimmy Furlow Senior Citizen Center
ATTACH;FMTTYPE=image/png:https://brookhavenrecreation.com/wp-content/uploads/2025/10/Designer-1.png
END:VEVENT
BEGIN:VEVENT
DTSTART;TZID=America/Detroit:20251225T140000
DTEND;TZID=America/Detroit:20251225T140000
DTSTAMP:20260422T185635
CREATED:20251024T191338Z
LAST-MODIFIED:20251024T191338Z
UID:10005186-1766671200-1766671200@brookhavenrecreation.com
SUMMARY:Rummy Club
DESCRIPTION:Rummy club meets Thursdays at 2:00 pm. This group has participation requirements. Contact us for more information: 601-835-5076.
URL:https://brookhavenrecreation.com/event/rummy-club/2025-12-25/
LOCATION:Jimmy Furlow Senior Citizen Center
ATTACH;FMTTYPE=image/png:https://brookhavenrecreation.com/wp-content/uploads/2025/10/Designer-1.png
END:VEVENT
BEGIN:VEVENT
DTSTART;TZID=America/Detroit:20251225T130000
DTEND;TZID=America/Detroit:20251225T130000
DTSTAMP:20260422T185635
CREATED:20251024T190957Z
LAST-MODIFIED:20251024T190957Z
UID:10004134-1766667600-1766667600@brookhavenrecreation.com
SUMMARY:Bingo
DESCRIPTION:Bingo meets Thursdays at 1:00pm and is open to the public\, just bring a wrapped gift ($10 minimum value).
URL:https://brookhavenrecreation.com/event/bingo/2025-12-25/
LOCATION:Jimmy Furlow Senior Citizen Center
ATTACH;FMTTYPE=image/png:https://brookhavenrecreation.com/wp-content/uploads/2025/10/Designer-1.png
END:VEVENT
BEGIN:VEVENT
DTSTART;TZID=America/Detroit:20251225T100000
DTEND;TZID=America/Detroit:20251225T110000
DTSTAMP:20260422T185635
CREATED:20251024T182944Z
LAST-MODIFIED:20251024T182944Z
UID:10002324-1766656800-1766660400@brookhavenrecreation.com
SUMMARY:Fitness Class (Sit-n-Fit)
DESCRIPTION:Our computer lab is open Monday – Wednesday from 8:00 am- 1:00pm.
URL:https://brookhavenrecreation.com/event/fitness-class-sit-n-fit/2025-12-25/
LOCATION:Jimmy Furlow Senior Citizen Center
ATTACH;FMTTYPE=image/png:https://brookhavenrecreation.com/wp-content/uploads/2025/10/Designer-1.png
END:VEVENT
BEGIN:VEVENT
DTSTART;TZID=America/Detroit:20251225T083000
DTEND;TZID=America/Detroit:20251225T083000
DTSTAMP:20260422T185635
CREATED:20251024T190615Z
LAST-MODIFIED:20251024T190615Z
UID:10003284-1766651400-1766651400@brookhavenrecreation.com
SUMMARY:Walking Club
DESCRIPTION:Indoor walking club helps with mobility\, weight loss\, and socialization.
URL:https://brookhavenrecreation.com/event/walking-club/2025-12-25/
LOCATION:Jimmy Furlow Senior Citizen Center
ATTACH;FMTTYPE=image/png:https://brookhavenrecreation.com/wp-content/uploads/2025/10/Designer-1.png
END:VEVENT
BEGIN:VEVENT
DTSTART;TZID=America/Detroit:20251224T081000
DTEND;TZID=America/Detroit:20251224T103000
DTSTAMP:20260422T185635
CREATED:20251024T181946Z
LAST-MODIFIED:20251024T182041Z
UID:10000629-1766563800-1766572200@brookhavenrecreation.com
SUMMARY:Line Dancing
DESCRIPTION:Is a fun and social way to enjoy music and exercise\, with choreographed steps that are performed in sync by a group of dancers.
URL:https://brookhavenrecreation.com/event/line-dancing/2025-12-24/
LOCATION:Jimmy Furlow Senior Citizen Center
ATTACH;FMTTYPE=image/png:https://brookhavenrecreation.com/wp-content/uploads/2025/10/Designer-1.png
END:VEVENT
BEGIN:VEVENT
DTSTART;TZID=America/Detroit:20251224T080000
DTEND;TZID=America/Detroit:20251224T130000
DTSTAMP:20260422T185635
CREATED:20251024T181619Z
LAST-MODIFIED:20251024T182057Z
UID:10000096-1766563200-1766581200@brookhavenrecreation.com
SUMMARY:Computer Lab
DESCRIPTION:Our computer lab is open Monday – Wednesday from 8:00 am- 1:00pm.
URL:https://brookhavenrecreation.com/event/computer-lab/2025-12-24/
LOCATION:Jimmy Furlow Senior Citizen Center
ATTACH;FMTTYPE=image/png:https://brookhavenrecreation.com/wp-content/uploads/2025/10/Designer-1.png
END:VEVENT
BEGIN:VEVENT
DTSTART;TZID=America/Detroit:20251223T130000
DTEND;TZID=America/Detroit:20251223T130000
DTSTAMP:20260422T185635
CREATED:20251024T191039Z
LAST-MODIFIED:20251024T191039Z
UID:10004660-1766494800-1766494800@brookhavenrecreation.com
SUMMARY:Bridge Group
DESCRIPTION:Bridge Group meets Tuesdays at 1:00 pm. This group has participation requirements. Contact us for more information: 601-835-5076.
URL:https://brookhavenrecreation.com/event/bridge-group/2025-12-23/
LOCATION:Jimmy Furlow Senior Citizen Center
ATTACH;FMTTYPE=image/png:https://brookhavenrecreation.com/wp-content/uploads/2025/10/Designer-1.png
END:VEVENT
BEGIN:VEVENT
DTSTART;TZID=America/Detroit:20251223T100000
DTEND;TZID=America/Detroit:20251223T110000
DTSTAMP:20260422T185635
CREATED:20251024T182944Z
LAST-MODIFIED:20251024T182944Z
UID:10002323-1766484000-1766487600@brookhavenrecreation.com
SUMMARY:Fitness Class (Sit-n-Fit)
DESCRIPTION:Our computer lab is open Monday – Wednesday from 8:00 am- 1:00pm.
URL:https://brookhavenrecreation.com/event/fitness-class-sit-n-fit/2025-12-23/
LOCATION:Jimmy Furlow Senior Citizen Center
ATTACH;FMTTYPE=image/png:https://brookhavenrecreation.com/wp-content/uploads/2025/10/Designer-1.png
END:VEVENT
BEGIN:VEVENT
DTSTART;TZID=America/Detroit:20251222T113000
DTEND;TZID=America/Detroit:20251222T113000
DTSTAMP:20260422T185635
CREATED:20251024T191617Z
LAST-MODIFIED:20251024T191617Z
UID:10006237-1766403000-1766403000@brookhavenrecreation.com
SUMMARY:Bunco
DESCRIPTION:Bunco meets Mondays at 11:30 am. This group has participation requirements. Contact us for more information: 601-835-5076.
URL:https://brookhavenrecreation.com/event/bunco/2025-12-22/
LOCATION:Jimmy Furlow Senior Citizen Center
ATTACH;FMTTYPE=image/png:https://brookhavenrecreation.com/wp-content/uploads/2025/10/Designer-1.png
END:VEVENT
BEGIN:VEVENT
DTSTART;TZID=America/Detroit:20251222T081000
DTEND;TZID=America/Detroit:20251222T103000
DTSTAMP:20260422T185635
CREATED:20251024T181946Z
LAST-MODIFIED:20251024T182041Z
UID:10000628-1766391000-1766399400@brookhavenrecreation.com
SUMMARY:Line Dancing
DESCRIPTION:Is a fun and social way to enjoy music and exercise\, with choreographed steps that are performed in sync by a group of dancers.
URL:https://brookhavenrecreation.com/event/line-dancing/2025-12-22/
LOCATION:Jimmy Furlow Senior Citizen Center
ATTACH;FMTTYPE=image/png:https://brookhavenrecreation.com/wp-content/uploads/2025/10/Designer-1.png
END:VEVENT
BEGIN:VEVENT
DTSTART;TZID=America/Detroit:20251219T110000
DTEND;TZID=America/Detroit:20251219T110000
DTSTAMP:20260422T185635
CREATED:20251024T191407Z
LAST-MODIFIED:20251024T191407Z
UID:10005711-1766142000-1766142000@brookhavenrecreation.com
SUMMARY:Card Sharks
DESCRIPTION:Card Sharks meets Fridays at 11:00 am. This group has participation requirements. Contact us for more information: 601-835-5076.
URL:https://brookhavenrecreation.com/event/card-sharks/2025-12-19/
LOCATION:Jimmy Furlow Senior Citizen Center
ATTACH;FMTTYPE=image/png:https://brookhavenrecreation.com/wp-content/uploads/2025/10/Designer-1.png
END:VEVENT
BEGIN:VEVENT
DTSTART;TZID=America/Detroit:20251219T083000
DTEND;TZID=America/Detroit:20251219T083000
DTSTAMP:20260422T185635
CREATED:20251024T191854Z
LAST-MODIFIED:20251024T191854Z
UID:10007410-1766133000-1766133000@brookhavenrecreation.com
SUMMARY:Soul Dancing
DESCRIPTION:Is a fun and social way to enjoy music and exercise\, with choreographed steps that are performed in sync by a group of dancers.
URL:https://brookhavenrecreation.com/event/soul-dancing/2025-12-19/
LOCATION:Jimmy Furlow Senior Citizen Center
ATTACH;FMTTYPE=image/png:https://brookhavenrecreation.com/wp-content/uploads/2025/10/Designer-1.png
END:VEVENT
BEGIN:VEVENT
DTSTART;TZID=America/Detroit:20251218T140000
DTEND;TZID=America/Detroit:20251218T140000
DTSTAMP:20260422T185635
CREATED:20251024T191338Z
LAST-MODIFIED:20251024T191338Z
UID:10005185-1766066400-1766066400@brookhavenrecreation.com
SUMMARY:Rummy Club
DESCRIPTION:Rummy club meets Thursdays at 2:00 pm. This group has participation requirements. Contact us for more information: 601-835-5076.
URL:https://brookhavenrecreation.com/event/rummy-club/2025-12-18/
LOCATION:Jimmy Furlow Senior Citizen Center
ATTACH;FMTTYPE=image/png:https://brookhavenrecreation.com/wp-content/uploads/2025/10/Designer-1.png
END:VEVENT
BEGIN:VEVENT
DTSTART;TZID=America/Detroit:20251218T130000
DTEND;TZID=America/Detroit:20251218T130000
DTSTAMP:20260422T185635
CREATED:20251024T190957Z
LAST-MODIFIED:20251024T190957Z
UID:10004133-1766062800-1766062800@brookhavenrecreation.com
SUMMARY:Bingo
DESCRIPTION:Bingo meets Thursdays at 1:00pm and is open to the public\, just bring a wrapped gift ($10 minimum value).
URL:https://brookhavenrecreation.com/event/bingo/2025-12-18/
LOCATION:Jimmy Furlow Senior Citizen Center
ATTACH;FMTTYPE=image/png:https://brookhavenrecreation.com/wp-content/uploads/2025/10/Designer-1.png
END:VEVENT
BEGIN:VEVENT
DTSTART;TZID=America/Detroit:20251218T100000
DTEND;TZID=America/Detroit:20251218T110000
DTSTAMP:20260422T185635
CREATED:20251024T182944Z
LAST-MODIFIED:20251024T182944Z
UID:10002322-1766052000-1766055600@brookhavenrecreation.com
SUMMARY:Fitness Class (Sit-n-Fit)
DESCRIPTION:Our computer lab is open Monday – Wednesday from 8:00 am- 1:00pm.
URL:https://brookhavenrecreation.com/event/fitness-class-sit-n-fit/2025-12-18/
LOCATION:Jimmy Furlow Senior Citizen Center
ATTACH;FMTTYPE=image/png:https://brookhavenrecreation.com/wp-content/uploads/2025/10/Designer-1.png
END:VEVENT
BEGIN:VEVENT
DTSTART;TZID=America/Detroit:20251218T083000
DTEND;TZID=America/Detroit:20251218T083000
DTSTAMP:20260422T185635
CREATED:20251024T190615Z
LAST-MODIFIED:20251024T190615Z
UID:10003283-1766046600-1766046600@brookhavenrecreation.com
SUMMARY:Walking Club
DESCRIPTION:Indoor walking club helps with mobility\, weight loss\, and socialization.
URL:https://brookhavenrecreation.com/event/walking-club/2025-12-18/
LOCATION:Jimmy Furlow Senior Citizen Center
ATTACH;FMTTYPE=image/png:https://brookhavenrecreation.com/wp-content/uploads/2025/10/Designer-1.png
END:VEVENT
BEGIN:VEVENT
DTSTART;TZID=America/Detroit:20251217T081000
DTEND;TZID=America/Detroit:20251217T103000
DTSTAMP:20260422T185635
CREATED:20251024T181946Z
LAST-MODIFIED:20251024T182041Z
UID:10000627-1765959000-1765967400@brookhavenrecreation.com
SUMMARY:Line Dancing
DESCRIPTION:Is a fun and social way to enjoy music and exercise\, with choreographed steps that are performed in sync by a group of dancers.
URL:https://brookhavenrecreation.com/event/line-dancing/2025-12-17/
LOCATION:Jimmy Furlow Senior Citizen Center
ATTACH;FMTTYPE=image/png:https://brookhavenrecreation.com/wp-content/uploads/2025/10/Designer-1.png
END:VEVENT
BEGIN:VEVENT
DTSTART;TZID=America/Detroit:20251217T080000
DTEND;TZID=America/Detroit:20251217T130000
DTSTAMP:20260422T185635
CREATED:20251024T181619Z
LAST-MODIFIED:20251024T182057Z
UID:10000095-1765958400-1765976400@brookhavenrecreation.com
SUMMARY:Computer Lab
DESCRIPTION:Our computer lab is open Monday – Wednesday from 8:00 am- 1:00pm.
URL:https://brookhavenrecreation.com/event/computer-lab/2025-12-17/
LOCATION:Jimmy Furlow Senior Citizen Center
ATTACH;FMTTYPE=image/png:https://brookhavenrecreation.com/wp-content/uploads/2025/10/Designer-1.png
END:VEVENT
BEGIN:VEVENT
DTSTART;TZID=America/Detroit:20251216T130000
DTEND;TZID=America/Detroit:20251216T130000
DTSTAMP:20260422T185635
CREATED:20251024T191039Z
LAST-MODIFIED:20251024T191039Z
UID:10004659-1765890000-1765890000@brookhavenrecreation.com
SUMMARY:Bridge Group
DESCRIPTION:Bridge Group meets Tuesdays at 1:00 pm. This group has participation requirements. Contact us for more information: 601-835-5076.
URL:https://brookhavenrecreation.com/event/bridge-group/2025-12-16/
LOCATION:Jimmy Furlow Senior Citizen Center
ATTACH;FMTTYPE=image/png:https://brookhavenrecreation.com/wp-content/uploads/2025/10/Designer-1.png
END:VEVENT
BEGIN:VEVENT
DTSTART;TZID=America/Detroit:20251216T100000
DTEND;TZID=America/Detroit:20251216T110000
DTSTAMP:20260422T185635
CREATED:20251024T182944Z
LAST-MODIFIED:20251024T182944Z
UID:10002321-1765879200-1765882800@brookhavenrecreation.com
SUMMARY:Fitness Class (Sit-n-Fit)
DESCRIPTION:Our computer lab is open Monday – Wednesday from 8:00 am- 1:00pm.
URL:https://brookhavenrecreation.com/event/fitness-class-sit-n-fit/2025-12-16/
LOCATION:Jimmy Furlow Senior Citizen Center
ATTACH;FMTTYPE=image/png:https://brookhavenrecreation.com/wp-content/uploads/2025/10/Designer-1.png
END:VEVENT
BEGIN:VEVENT
DTSTART;TZID=America/Detroit:20251215T130000
DTEND;TZID=America/Detroit:20251215T140000
DTSTAMP:20260422T185635
CREATED:20251024T182845Z
LAST-MODIFIED:20251024T182845Z
UID:10001984-1765803600-1765807200@brookhavenrecreation.com
SUMMARY:Jammin Sesion
DESCRIPTION:Our computer lab is open Monday – Wednesday from 8:00 am- 1:00pm.
URL:https://brookhavenrecreation.com/event/jammin-sesion-2/2025-12-15/
LOCATION:Jimmy Furlow Senior Citizen Center
ATTACH;FMTTYPE=image/png:https://brookhavenrecreation.com/wp-content/uploads/2025/10/Designer-1.png
END:VEVENT
BEGIN:VEVENT
DTSTART;TZID=America/Detroit:20251215T113000
DTEND;TZID=America/Detroit:20251215T113000
DTSTAMP:20260422T185635
CREATED:20251024T191617Z
LAST-MODIFIED:20251024T191617Z
UID:10006236-1765798200-1765798200@brookhavenrecreation.com
SUMMARY:Bunco
DESCRIPTION:Bunco meets Mondays at 11:30 am. This group has participation requirements. Contact us for more information: 601-835-5076.
URL:https://brookhavenrecreation.com/event/bunco/2025-12-15/
LOCATION:Jimmy Furlow Senior Citizen Center
ATTACH;FMTTYPE=image/png:https://brookhavenrecreation.com/wp-content/uploads/2025/10/Designer-1.png
END:VEVENT
BEGIN:VEVENT
DTSTART;TZID=America/Detroit:20251215T081000
DTEND;TZID=America/Detroit:20251215T103000
DTSTAMP:20260422T185635
CREATED:20251024T181946Z
LAST-MODIFIED:20251024T182041Z
UID:10000626-1765786200-1765794600@brookhavenrecreation.com
SUMMARY:Line Dancing
DESCRIPTION:Is a fun and social way to enjoy music and exercise\, with choreographed steps that are performed in sync by a group of dancers.
URL:https://brookhavenrecreation.com/event/line-dancing/2025-12-15/
LOCATION:Jimmy Furlow Senior Citizen Center
ATTACH;FMTTYPE=image/png:https://brookhavenrecreation.com/wp-content/uploads/2025/10/Designer-1.png
END:VEVENT
BEGIN:VEVENT
DTSTART;TZID=America/Detroit:20251212T110000
DTEND;TZID=America/Detroit:20251212T110000
DTSTAMP:20260422T185635
CREATED:20251024T191407Z
LAST-MODIFIED:20251024T191407Z
UID:10005710-1765537200-1765537200@brookhavenrecreation.com
SUMMARY:Card Sharks
DESCRIPTION:Card Sharks meets Fridays at 11:00 am. This group has participation requirements. Contact us for more information: 601-835-5076.
URL:https://brookhavenrecreation.com/event/card-sharks/2025-12-12/
LOCATION:Jimmy Furlow Senior Citizen Center
ATTACH;FMTTYPE=image/png:https://brookhavenrecreation.com/wp-content/uploads/2025/10/Designer-1.png
END:VEVENT
BEGIN:VEVENT
DTSTART;TZID=America/Detroit:20251212T083000
DTEND;TZID=America/Detroit:20251212T083000
DTSTAMP:20260422T185635
CREATED:20251024T191854Z
LAST-MODIFIED:20251024T191854Z
UID:10007409-1765528200-1765528200@brookhavenrecreation.com
SUMMARY:Soul Dancing
DESCRIPTION:Is a fun and social way to enjoy music and exercise\, with choreographed steps that are performed in sync by a group of dancers.
URL:https://brookhavenrecreation.com/event/soul-dancing/2025-12-12/
LOCATION:Jimmy Furlow Senior Citizen Center
ATTACH;FMTTYPE=image/png:https://brookhavenrecreation.com/wp-content/uploads/2025/10/Designer-1.png
END:VEVENT
END:VCALENDAR