BEGIN:VCALENDAR
VERSION:2.0
PRODID:-//Brookhaven Parks &amp; Playgrounds - ECPv6.15.10//NONSGML v1.0//EN
CALSCALE:GREGORIAN
METHOD:PUBLISH
X-WR-CALNAME:Brookhaven Parks &amp; Playgrounds
X-ORIGINAL-URL:https://brookhavenrecreation.com
X-WR-CALDESC:Events for Brookhaven Parks &amp; Playgrounds
REFRESH-INTERVAL;VALUE=DURATION:PT1H
X-Robots-Tag:noindex
X-PUBLISHED-TTL:PT1H
BEGIN:VTIMEZONE
TZID:America/Detroit
BEGIN:DAYLIGHT
TZOFFSETFROM:-0500
TZOFFSETTO:-0400
TZNAME:EDT
DTSTART:20260308T070000
END:DAYLIGHT
BEGIN:STANDARD
TZOFFSETFROM:-0400
TZOFFSETTO:-0500
TZNAME:EST
DTSTART:20261101T060000
END:STANDARD
BEGIN:DAYLIGHT
TZOFFSETFROM:-0500
TZOFFSETTO:-0400
TZNAME:EDT
DTSTART:20270314T070000
END:DAYLIGHT
BEGIN:STANDARD
TZOFFSETFROM:-0400
TZOFFSETTO:-0500
TZNAME:EST
DTSTART:20271107T060000
END:STANDARD
BEGIN:DAYLIGHT
TZOFFSETFROM:-0500
TZOFFSETTO:-0400
TZNAME:EDT
DTSTART:20280312T070000
END:DAYLIGHT
BEGIN:STANDARD
TZOFFSETFROM:-0400
TZOFFSETTO:-0500
TZNAME:EST
DTSTART:20281105T060000
END:STANDARD
END:VTIMEZONE
BEGIN:VEVENT
DTSTART;TZID=America/Detroit:20270208T113000
DTEND;TZID=America/Detroit:20270208T113000
DTSTAMP:20260425T165847
CREATED:20251024T191617Z
LAST-MODIFIED:20251024T191617Z
UID:10006296-1802086200-1802086200@brookhavenrecreation.com
SUMMARY:Bunco
DESCRIPTION:Bunco meets Mondays at 11:30 am. This group has participation requirements. Contact us for more information: 601-835-5076.
URL:https://brookhavenrecreation.com/event/bunco/2027-02-08/
LOCATION:Jimmy Furlow Senior Citizen Center
ATTACH;FMTTYPE=image/png:https://brookhavenrecreation.com/wp-content/uploads/2025/10/Designer-1.png
END:VEVENT
BEGIN:VEVENT
DTSTART;TZID=America/Detroit:20270209T100000
DTEND;TZID=America/Detroit:20270209T110000
DTSTAMP:20260425T165847
CREATED:20251024T182944Z
LAST-MODIFIED:20251024T182944Z
UID:10002441-1802167200-1802170800@brookhavenrecreation.com
SUMMARY:Fitness Class (Sit-n-Fit)
DESCRIPTION:Our computer lab is open Monday – Wednesday from 8:00 am- 1:00pm.
URL:https://brookhavenrecreation.com/event/fitness-class-sit-n-fit/2027-02-09/
LOCATION:Jimmy Furlow Senior Citizen Center
ATTACH;FMTTYPE=image/png:https://brookhavenrecreation.com/wp-content/uploads/2025/10/Designer-1.png
END:VEVENT
BEGIN:VEVENT
DTSTART;TZID=America/Detroit:20270209T120000
DTEND;TZID=America/Detroit:20270209T160000
DTSTAMP:20260425T165847
CREATED:20251024T183128Z
LAST-MODIFIED:20251024T183128Z
UID:10003107-1802174400-1802188800@brookhavenrecreation.com
SUMMARY:Homemakers Club
DESCRIPTION:This club is with Mississippi State Extension service\, they teach a variety of things. Teach a variety of things\, such as canning\, gardening\, sewing\, nutrition etc.
URL:https://brookhavenrecreation.com/event/homemakers-club/2027-02-09/
LOCATION:Jimmy Furlow Senior Citizen Center
ATTACH;FMTTYPE=image/png:https://brookhavenrecreation.com/wp-content/uploads/2025/10/Designer-1.png
END:VEVENT
BEGIN:VEVENT
DTSTART;TZID=America/Detroit:20270209T120000
DTEND;TZID=America/Detroit:20270209T160000
DTSTAMP:20260425T165847
CREATED:20251024T190510Z
LAST-MODIFIED:20251024T190510Z
UID:10003168-1802174400-1802188800@brookhavenrecreation.com
SUMMARY:Homemakers Club
DESCRIPTION:This club is with Mississippi State Extension service\, they teach a variety of things. Teach a variety of things\, such as canning\, gardening\, sewing\, nutrition etc.
URL:https://brookhavenrecreation.com/event/homemakers-club-2/2027-02-09/
LOCATION:Jimmy Furlow Senior Citizen Center
ATTACH;FMTTYPE=image/png:https://brookhavenrecreation.com/wp-content/uploads/2025/10/Designer-1.png
END:VEVENT
BEGIN:VEVENT
DTSTART;TZID=America/Detroit:20270209T130000
DTEND;TZID=America/Detroit:20270209T130000
DTSTAMP:20260425T165847
CREATED:20251024T191039Z
LAST-MODIFIED:20251024T191039Z
UID:10004719-1802178000-1802178000@brookhavenrecreation.com
SUMMARY:Bridge Group
DESCRIPTION:Bridge Group meets Tuesdays at 1:00 pm. This group has participation requirements. Contact us for more information: 601-835-5076.
URL:https://brookhavenrecreation.com/event/bridge-group/2027-02-09/
LOCATION:Jimmy Furlow Senior Citizen Center
ATTACH;FMTTYPE=image/png:https://brookhavenrecreation.com/wp-content/uploads/2025/10/Designer-1.png
END:VEVENT
BEGIN:VEVENT
DTSTART;TZID=America/Detroit:20270210T000000
DTEND;TZID=America/Detroit:20270210T235959
DTSTAMP:20260425T165847
CREATED:20251024T191750Z
LAST-MODIFIED:20251024T191750Z
UID:10007093-1802217600-1802303999@brookhavenrecreation.com
SUMMARY:Piecemakers Quilting Club
DESCRIPTION:Piecemakers Quilting Club meets once a month. This group has participation requirements. Contact us for more information: 601-835-5076.
URL:https://brookhavenrecreation.com/event/piecemakers-quilting-club/2027-02-10/
LOCATION:Jimmy Furlow Senior Citizen Center
ATTACH;FMTTYPE=image/png:https://brookhavenrecreation.com/wp-content/uploads/2025/10/Designer-1.png
END:VEVENT
BEGIN:VEVENT
DTSTART;TZID=America/Detroit:20270210T080000
DTEND;TZID=America/Detroit:20270210T130000
DTSTAMP:20260425T165847
CREATED:20251024T181619Z
LAST-MODIFIED:20251024T182057Z
UID:10000155-1802246400-1802264400@brookhavenrecreation.com
SUMMARY:Computer Lab
DESCRIPTION:Our computer lab is open Monday – Wednesday from 8:00 am- 1:00pm.
URL:https://brookhavenrecreation.com/event/computer-lab/2027-02-10/
LOCATION:Jimmy Furlow Senior Citizen Center
ATTACH;FMTTYPE=image/png:https://brookhavenrecreation.com/wp-content/uploads/2025/10/Designer-1.png
END:VEVENT
BEGIN:VEVENT
DTSTART;TZID=America/Detroit:20270210T081000
DTEND;TZID=America/Detroit:20270210T103000
DTSTAMP:20260425T165847
CREATED:20251024T181946Z
LAST-MODIFIED:20251024T182041Z
UID:10000747-1802247000-1802255400@brookhavenrecreation.com
SUMMARY:Line Dancing
DESCRIPTION:Is a fun and social way to enjoy music and exercise\, with choreographed steps that are performed in sync by a group of dancers.
URL:https://brookhavenrecreation.com/event/line-dancing/2027-02-10/
LOCATION:Jimmy Furlow Senior Citizen Center
ATTACH;FMTTYPE=image/png:https://brookhavenrecreation.com/wp-content/uploads/2025/10/Designer-1.png
END:VEVENT
BEGIN:VEVENT
DTSTART;TZID=America/Detroit:20270211T083000
DTEND;TZID=America/Detroit:20270211T083000
DTSTAMP:20260425T165847
CREATED:20251024T190615Z
LAST-MODIFIED:20251024T190615Z
UID:10003343-1802334600-1802334600@brookhavenrecreation.com
SUMMARY:Walking Club
DESCRIPTION:Indoor walking club helps with mobility\, weight loss\, and socialization.
URL:https://brookhavenrecreation.com/event/walking-club/2027-02-11/
LOCATION:Jimmy Furlow Senior Citizen Center
ATTACH;FMTTYPE=image/png:https://brookhavenrecreation.com/wp-content/uploads/2025/10/Designer-1.png
END:VEVENT
BEGIN:VEVENT
DTSTART;TZID=America/Detroit:20270211T100000
DTEND;TZID=America/Detroit:20270211T110000
DTSTAMP:20260425T165847
CREATED:20251024T182944Z
LAST-MODIFIED:20251024T182944Z
UID:10002442-1802340000-1802343600@brookhavenrecreation.com
SUMMARY:Fitness Class (Sit-n-Fit)
DESCRIPTION:Our computer lab is open Monday – Wednesday from 8:00 am- 1:00pm.
URL:https://brookhavenrecreation.com/event/fitness-class-sit-n-fit/2027-02-11/
LOCATION:Jimmy Furlow Senior Citizen Center
ATTACH;FMTTYPE=image/png:https://brookhavenrecreation.com/wp-content/uploads/2025/10/Designer-1.png
END:VEVENT
BEGIN:VEVENT
DTSTART;TZID=America/Detroit:20270211T130000
DTEND;TZID=America/Detroit:20270211T130000
DTSTAMP:20260425T165847
CREATED:20251024T190957Z
LAST-MODIFIED:20251024T190957Z
UID:10004193-1802350800-1802350800@brookhavenrecreation.com
SUMMARY:Bingo
DESCRIPTION:Bingo meets Thursdays at 1:00pm and is open to the public\, just bring a wrapped gift ($10 minimum value).
URL:https://brookhavenrecreation.com/event/bingo/2027-02-11/
LOCATION:Jimmy Furlow Senior Citizen Center
ATTACH;FMTTYPE=image/png:https://brookhavenrecreation.com/wp-content/uploads/2025/10/Designer-1.png
END:VEVENT
BEGIN:VEVENT
DTSTART;TZID=America/Detroit:20270211T140000
DTEND;TZID=America/Detroit:20270211T140000
DTSTAMP:20260425T165847
CREATED:20251024T191338Z
LAST-MODIFIED:20251024T191338Z
UID:10005245-1802354400-1802354400@brookhavenrecreation.com
SUMMARY:Rummy Club
DESCRIPTION:Rummy club meets Thursdays at 2:00 pm. This group has participation requirements. Contact us for more information: 601-835-5076.
URL:https://brookhavenrecreation.com/event/rummy-club/2027-02-11/
LOCATION:Jimmy Furlow Senior Citizen Center
ATTACH;FMTTYPE=image/png:https://brookhavenrecreation.com/wp-content/uploads/2025/10/Designer-1.png
END:VEVENT
BEGIN:VEVENT
DTSTART;TZID=America/Detroit:20270211T160000
DTEND;TZID=America/Detroit:20270211T160000
DTSTAMP:20260425T165847
CREATED:20251024T191653Z
LAST-MODIFIED:20251024T191653Z
UID:10006769-1802361600-1802361600@brookhavenrecreation.com
SUMMARY:American Legion
DESCRIPTION:American Legion meets once a month. This group has participation requirements. Contact us for more information: 601-835-5076.
URL:https://brookhavenrecreation.com/event/american-legion/2027-02-11/
LOCATION:Jimmy Furlow Senior Citizen Center
ATTACH;FMTTYPE=image/png:https://brookhavenrecreation.com/wp-content/uploads/2025/10/Designer-1.png
END:VEVENT
BEGIN:VEVENT
DTSTART;TZID=America/Detroit:20270212T083000
DTEND;TZID=America/Detroit:20270212T083000
DTSTAMP:20260425T165847
CREATED:20251024T191854Z
LAST-MODIFIED:20251024T191854Z
UID:10007470-1802421000-1802421000@brookhavenrecreation.com
SUMMARY:Soul Dancing
DESCRIPTION:Is a fun and social way to enjoy music and exercise\, with choreographed steps that are performed in sync by a group of dancers.
URL:https://brookhavenrecreation.com/event/soul-dancing/2027-02-12/
LOCATION:Jimmy Furlow Senior Citizen Center
ATTACH;FMTTYPE=image/png:https://brookhavenrecreation.com/wp-content/uploads/2025/10/Designer-1.png
END:VEVENT
BEGIN:VEVENT
DTSTART;TZID=America/Detroit:20270212T110000
DTEND;TZID=America/Detroit:20270212T110000
DTSTAMP:20260425T165847
CREATED:20251024T191407Z
LAST-MODIFIED:20251024T191407Z
UID:10005771-1802430000-1802430000@brookhavenrecreation.com
SUMMARY:Card Sharks
DESCRIPTION:Card Sharks meets Fridays at 11:00 am. This group has participation requirements. Contact us for more information: 601-835-5076.
URL:https://brookhavenrecreation.com/event/card-sharks/2027-02-12/
LOCATION:Jimmy Furlow Senior Citizen Center
ATTACH;FMTTYPE=image/png:https://brookhavenrecreation.com/wp-content/uploads/2025/10/Designer-1.png
END:VEVENT
BEGIN:VEVENT
DTSTART;TZID=America/Detroit:20270215T081000
DTEND;TZID=America/Detroit:20270215T103000
DTSTAMP:20260425T165847
CREATED:20251024T181946Z
LAST-MODIFIED:20251024T182041Z
UID:10000748-1802679000-1802687400@brookhavenrecreation.com
SUMMARY:Line Dancing
DESCRIPTION:Is a fun and social way to enjoy music and exercise\, with choreographed steps that are performed in sync by a group of dancers.
URL:https://brookhavenrecreation.com/event/line-dancing/2027-02-15/
LOCATION:Jimmy Furlow Senior Citizen Center
ATTACH;FMTTYPE=image/png:https://brookhavenrecreation.com/wp-content/uploads/2025/10/Designer-1.png
END:VEVENT
BEGIN:VEVENT
DTSTART;TZID=America/Detroit:20270215T113000
DTEND;TZID=America/Detroit:20270215T113000
DTSTAMP:20260425T165847
CREATED:20251024T191617Z
LAST-MODIFIED:20251024T191617Z
UID:10006297-1802691000-1802691000@brookhavenrecreation.com
SUMMARY:Bunco
DESCRIPTION:Bunco meets Mondays at 11:30 am. This group has participation requirements. Contact us for more information: 601-835-5076.
URL:https://brookhavenrecreation.com/event/bunco/2027-02-15/
LOCATION:Jimmy Furlow Senior Citizen Center
ATTACH;FMTTYPE=image/png:https://brookhavenrecreation.com/wp-content/uploads/2025/10/Designer-1.png
END:VEVENT
BEGIN:VEVENT
DTSTART;TZID=America/Detroit:20270215T130000
DTEND;TZID=America/Detroit:20270215T140000
DTSTAMP:20260425T165847
CREATED:20251024T182845Z
LAST-MODIFIED:20251024T182845Z
UID:10001998-1802696400-1802700000@brookhavenrecreation.com
SUMMARY:Jammin Sesion
DESCRIPTION:Our computer lab is open Monday – Wednesday from 8:00 am- 1:00pm.
URL:https://brookhavenrecreation.com/event/jammin-sesion-2/2027-02-15/
LOCATION:Jimmy Furlow Senior Citizen Center
ATTACH;FMTTYPE=image/png:https://brookhavenrecreation.com/wp-content/uploads/2025/10/Designer-1.png
END:VEVENT
BEGIN:VEVENT
DTSTART;TZID=America/Detroit:20270216T100000
DTEND;TZID=America/Detroit:20270216T110000
DTSTAMP:20260425T165847
CREATED:20251024T182944Z
LAST-MODIFIED:20251024T182944Z
UID:10002443-1802772000-1802775600@brookhavenrecreation.com
SUMMARY:Fitness Class (Sit-n-Fit)
DESCRIPTION:Our computer lab is open Monday – Wednesday from 8:00 am- 1:00pm.
URL:https://brookhavenrecreation.com/event/fitness-class-sit-n-fit/2027-02-16/
LOCATION:Jimmy Furlow Senior Citizen Center
ATTACH;FMTTYPE=image/png:https://brookhavenrecreation.com/wp-content/uploads/2025/10/Designer-1.png
END:VEVENT
BEGIN:VEVENT
DTSTART;TZID=America/Detroit:20270216T130000
DTEND;TZID=America/Detroit:20270216T130000
DTSTAMP:20260425T165847
CREATED:20251024T191039Z
LAST-MODIFIED:20251024T191039Z
UID:10004720-1802782800-1802782800@brookhavenrecreation.com
SUMMARY:Bridge Group
DESCRIPTION:Bridge Group meets Tuesdays at 1:00 pm. This group has participation requirements. Contact us for more information: 601-835-5076.
URL:https://brookhavenrecreation.com/event/bridge-group/2027-02-16/
LOCATION:Jimmy Furlow Senior Citizen Center
ATTACH;FMTTYPE=image/png:https://brookhavenrecreation.com/wp-content/uploads/2025/10/Designer-1.png
END:VEVENT
BEGIN:VEVENT
DTSTART;TZID=America/Detroit:20270217T080000
DTEND;TZID=America/Detroit:20270217T130000
DTSTAMP:20260425T165847
CREATED:20251024T181619Z
LAST-MODIFIED:20251024T182057Z
UID:10000156-1802851200-1802869200@brookhavenrecreation.com
SUMMARY:Computer Lab
DESCRIPTION:Our computer lab is open Monday – Wednesday from 8:00 am- 1:00pm.
URL:https://brookhavenrecreation.com/event/computer-lab/2027-02-17/
LOCATION:Jimmy Furlow Senior Citizen Center
ATTACH;FMTTYPE=image/png:https://brookhavenrecreation.com/wp-content/uploads/2025/10/Designer-1.png
END:VEVENT
BEGIN:VEVENT
DTSTART;TZID=America/Detroit:20270217T081000
DTEND;TZID=America/Detroit:20270217T103000
DTSTAMP:20260425T165847
CREATED:20251024T181946Z
LAST-MODIFIED:20251024T182041Z
UID:10000749-1802851800-1802860200@brookhavenrecreation.com
SUMMARY:Line Dancing
DESCRIPTION:Is a fun and social way to enjoy music and exercise\, with choreographed steps that are performed in sync by a group of dancers.
URL:https://brookhavenrecreation.com/event/line-dancing/2027-02-17/
LOCATION:Jimmy Furlow Senior Citizen Center
ATTACH;FMTTYPE=image/png:https://brookhavenrecreation.com/wp-content/uploads/2025/10/Designer-1.png
END:VEVENT
BEGIN:VEVENT
DTSTART;TZID=America/Detroit:20270218T083000
DTEND;TZID=America/Detroit:20270218T083000
DTSTAMP:20260425T165847
CREATED:20251024T190615Z
LAST-MODIFIED:20251024T190615Z
UID:10003344-1802939400-1802939400@brookhavenrecreation.com
SUMMARY:Walking Club
DESCRIPTION:Indoor walking club helps with mobility\, weight loss\, and socialization.
URL:https://brookhavenrecreation.com/event/walking-club/2027-02-18/
LOCATION:Jimmy Furlow Senior Citizen Center
ATTACH;FMTTYPE=image/png:https://brookhavenrecreation.com/wp-content/uploads/2025/10/Designer-1.png
END:VEVENT
BEGIN:VEVENT
DTSTART;TZID=America/Detroit:20270218T100000
DTEND;TZID=America/Detroit:20270218T110000
DTSTAMP:20260425T165847
CREATED:20251024T182944Z
LAST-MODIFIED:20251024T182944Z
UID:10002444-1802944800-1802948400@brookhavenrecreation.com
SUMMARY:Fitness Class (Sit-n-Fit)
DESCRIPTION:Our computer lab is open Monday – Wednesday from 8:00 am- 1:00pm.
URL:https://brookhavenrecreation.com/event/fitness-class-sit-n-fit/2027-02-18/
LOCATION:Jimmy Furlow Senior Citizen Center
ATTACH;FMTTYPE=image/png:https://brookhavenrecreation.com/wp-content/uploads/2025/10/Designer-1.png
END:VEVENT
BEGIN:VEVENT
DTSTART;TZID=America/Detroit:20270218T130000
DTEND;TZID=America/Detroit:20270218T130000
DTSTAMP:20260425T165847
CREATED:20251024T190957Z
LAST-MODIFIED:20251024T190957Z
UID:10004194-1802955600-1802955600@brookhavenrecreation.com
SUMMARY:Bingo
DESCRIPTION:Bingo meets Thursdays at 1:00pm and is open to the public\, just bring a wrapped gift ($10 minimum value).
URL:https://brookhavenrecreation.com/event/bingo/2027-02-18/
LOCATION:Jimmy Furlow Senior Citizen Center
ATTACH;FMTTYPE=image/png:https://brookhavenrecreation.com/wp-content/uploads/2025/10/Designer-1.png
END:VEVENT
BEGIN:VEVENT
DTSTART;TZID=America/Detroit:20270218T140000
DTEND;TZID=America/Detroit:20270218T140000
DTSTAMP:20260425T165847
CREATED:20251024T191338Z
LAST-MODIFIED:20251024T191338Z
UID:10005246-1802959200-1802959200@brookhavenrecreation.com
SUMMARY:Rummy Club
DESCRIPTION:Rummy club meets Thursdays at 2:00 pm. This group has participation requirements. Contact us for more information: 601-835-5076.
URL:https://brookhavenrecreation.com/event/rummy-club/2027-02-18/
LOCATION:Jimmy Furlow Senior Citizen Center
ATTACH;FMTTYPE=image/png:https://brookhavenrecreation.com/wp-content/uploads/2025/10/Designer-1.png
END:VEVENT
BEGIN:VEVENT
DTSTART;TZID=America/Detroit:20270219T083000
DTEND;TZID=America/Detroit:20270219T083000
DTSTAMP:20260425T165847
CREATED:20251024T191854Z
LAST-MODIFIED:20251024T191854Z
UID:10007471-1803025800-1803025800@brookhavenrecreation.com
SUMMARY:Soul Dancing
DESCRIPTION:Is a fun and social way to enjoy music and exercise\, with choreographed steps that are performed in sync by a group of dancers.
URL:https://brookhavenrecreation.com/event/soul-dancing/2027-02-19/
LOCATION:Jimmy Furlow Senior Citizen Center
ATTACH;FMTTYPE=image/png:https://brookhavenrecreation.com/wp-content/uploads/2025/10/Designer-1.png
END:VEVENT
BEGIN:VEVENT
DTSTART;TZID=America/Detroit:20270219T110000
DTEND;TZID=America/Detroit:20270219T110000
DTSTAMP:20260425T165847
CREATED:20251024T191407Z
LAST-MODIFIED:20251024T191407Z
UID:10005772-1803034800-1803034800@brookhavenrecreation.com
SUMMARY:Card Sharks
DESCRIPTION:Card Sharks meets Fridays at 11:00 am. This group has participation requirements. Contact us for more information: 601-835-5076.
URL:https://brookhavenrecreation.com/event/card-sharks/2027-02-19/
LOCATION:Jimmy Furlow Senior Citizen Center
ATTACH;FMTTYPE=image/png:https://brookhavenrecreation.com/wp-content/uploads/2025/10/Designer-1.png
END:VEVENT
BEGIN:VEVENT
DTSTART;TZID=America/Detroit:20270222T081000
DTEND;TZID=America/Detroit:20270222T103000
DTSTAMP:20260425T165847
CREATED:20251024T181946Z
LAST-MODIFIED:20251024T182041Z
UID:10000750-1803283800-1803292200@brookhavenrecreation.com
SUMMARY:Line Dancing
DESCRIPTION:Is a fun and social way to enjoy music and exercise\, with choreographed steps that are performed in sync by a group of dancers.
URL:https://brookhavenrecreation.com/event/line-dancing/2027-02-22/
LOCATION:Jimmy Furlow Senior Citizen Center
ATTACH;FMTTYPE=image/png:https://brookhavenrecreation.com/wp-content/uploads/2025/10/Designer-1.png
END:VEVENT
BEGIN:VEVENT
DTSTART;TZID=America/Detroit:20270222T113000
DTEND;TZID=America/Detroit:20270222T113000
DTSTAMP:20260425T165847
CREATED:20251024T191617Z
LAST-MODIFIED:20251024T191617Z
UID:10006298-1803295800-1803295800@brookhavenrecreation.com
SUMMARY:Bunco
DESCRIPTION:Bunco meets Mondays at 11:30 am. This group has participation requirements. Contact us for more information: 601-835-5076.
URL:https://brookhavenrecreation.com/event/bunco/2027-02-22/
LOCATION:Jimmy Furlow Senior Citizen Center
ATTACH;FMTTYPE=image/png:https://brookhavenrecreation.com/wp-content/uploads/2025/10/Designer-1.png
END:VEVENT
END:VCALENDAR