BEGIN:VCALENDAR
VERSION:2.0
PRODID:-//Brookhaven Parks &amp; Playgrounds - ECPv6.15.10//NONSGML v1.0//EN
CALSCALE:GREGORIAN
METHOD:PUBLISH
X-WR-CALNAME:Brookhaven Parks &amp; Playgrounds
X-ORIGINAL-URL:https://brookhavenrecreation.com
X-WR-CALDESC:Events for Brookhaven Parks &amp; Playgrounds
REFRESH-INTERVAL;VALUE=DURATION:PT1H
X-Robots-Tag:noindex
X-PUBLISHED-TTL:PT1H
BEGIN:VTIMEZONE
TZID:America/Detroit
BEGIN:DAYLIGHT
TZOFFSETFROM:-0500
TZOFFSETTO:-0400
TZNAME:EDT
DTSTART:20250309T070000
END:DAYLIGHT
BEGIN:STANDARD
TZOFFSETFROM:-0400
TZOFFSETTO:-0500
TZNAME:EST
DTSTART:20251102T060000
END:STANDARD
BEGIN:DAYLIGHT
TZOFFSETFROM:-0500
TZOFFSETTO:-0400
TZNAME:EDT
DTSTART:20260308T070000
END:DAYLIGHT
BEGIN:STANDARD
TZOFFSETFROM:-0400
TZOFFSETTO:-0500
TZNAME:EST
DTSTART:20261101T060000
END:STANDARD
BEGIN:DAYLIGHT
TZOFFSETFROM:-0500
TZOFFSETTO:-0400
TZNAME:EDT
DTSTART:20270314T070000
END:DAYLIGHT
BEGIN:STANDARD
TZOFFSETFROM:-0400
TZOFFSETTO:-0500
TZNAME:EST
DTSTART:20271107T060000
END:STANDARD
END:VTIMEZONE
BEGIN:VEVENT
DTSTART;TZID=America/Detroit:20260128T080000
DTEND;TZID=America/Detroit:20260128T130000
DTSTAMP:20260421T202008
CREATED:20251024T181619Z
LAST-MODIFIED:20251024T182057Z
UID:10000101-1769587200-1769605200@brookhavenrecreation.com
SUMMARY:Computer Lab
DESCRIPTION:Our computer lab is open Monday – Wednesday from 8:00 am- 1:00pm.
URL:https://brookhavenrecreation.com/event/computer-lab/2026-01-28/
LOCATION:Jimmy Furlow Senior Citizen Center
ATTACH;FMTTYPE=image/png:https://brookhavenrecreation.com/wp-content/uploads/2025/10/Designer-1.png
END:VEVENT
BEGIN:VEVENT
DTSTART;TZID=America/Detroit:20260127T130000
DTEND;TZID=America/Detroit:20260127T130000
DTSTAMP:20260421T202008
CREATED:20251024T191039Z
LAST-MODIFIED:20251024T191039Z
UID:10004665-1769518800-1769518800@brookhavenrecreation.com
SUMMARY:Bridge Group
DESCRIPTION:Bridge Group meets Tuesdays at 1:00 pm. This group has participation requirements. Contact us for more information: 601-835-5076.
URL:https://brookhavenrecreation.com/event/bridge-group/2026-01-27/
LOCATION:Jimmy Furlow Senior Citizen Center
ATTACH;FMTTYPE=image/png:https://brookhavenrecreation.com/wp-content/uploads/2025/10/Designer-1.png
END:VEVENT
BEGIN:VEVENT
DTSTART;TZID=America/Detroit:20260127T100000
DTEND;TZID=America/Detroit:20260127T110000
DTSTAMP:20260421T202008
CREATED:20251024T182944Z
LAST-MODIFIED:20251024T182944Z
UID:10002333-1769508000-1769511600@brookhavenrecreation.com
SUMMARY:Fitness Class (Sit-n-Fit)
DESCRIPTION:Our computer lab is open Monday – Wednesday from 8:00 am- 1:00pm.
URL:https://brookhavenrecreation.com/event/fitness-class-sit-n-fit/2026-01-27/
LOCATION:Jimmy Furlow Senior Citizen Center
ATTACH;FMTTYPE=image/png:https://brookhavenrecreation.com/wp-content/uploads/2025/10/Designer-1.png
END:VEVENT
BEGIN:VEVENT
DTSTART;TZID=America/Detroit:20260126T113000
DTEND;TZID=America/Detroit:20260126T113000
DTSTAMP:20260421T202008
CREATED:20251024T191617Z
LAST-MODIFIED:20251024T191617Z
UID:10006242-1769427000-1769427000@brookhavenrecreation.com
SUMMARY:Bunco
DESCRIPTION:Bunco meets Mondays at 11:30 am. This group has participation requirements. Contact us for more information: 601-835-5076.
URL:https://brookhavenrecreation.com/event/bunco/2026-01-26/
LOCATION:Jimmy Furlow Senior Citizen Center
ATTACH;FMTTYPE=image/png:https://brookhavenrecreation.com/wp-content/uploads/2025/10/Designer-1.png
END:VEVENT
BEGIN:VEVENT
DTSTART;TZID=America/Detroit:20260126T081000
DTEND;TZID=America/Detroit:20260126T103000
DTSTAMP:20260421T202008
CREATED:20251024T181946Z
LAST-MODIFIED:20251024T182041Z
UID:10000638-1769415000-1769423400@brookhavenrecreation.com
SUMMARY:Line Dancing
DESCRIPTION:Is a fun and social way to enjoy music and exercise\, with choreographed steps that are performed in sync by a group of dancers.
URL:https://brookhavenrecreation.com/event/line-dancing/2026-01-26/
LOCATION:Jimmy Furlow Senior Citizen Center
ATTACH;FMTTYPE=image/png:https://brookhavenrecreation.com/wp-content/uploads/2025/10/Designer-1.png
END:VEVENT
BEGIN:VEVENT
DTSTART;TZID=America/Detroit:20260123T110000
DTEND;TZID=America/Detroit:20260123T110000
DTSTAMP:20260421T202008
CREATED:20251024T191407Z
LAST-MODIFIED:20251024T191407Z
UID:10005716-1769166000-1769166000@brookhavenrecreation.com
SUMMARY:Card Sharks
DESCRIPTION:Card Sharks meets Fridays at 11:00 am. This group has participation requirements. Contact us for more information: 601-835-5076.
URL:https://brookhavenrecreation.com/event/card-sharks/2026-01-23/
LOCATION:Jimmy Furlow Senior Citizen Center
ATTACH;FMTTYPE=image/png:https://brookhavenrecreation.com/wp-content/uploads/2025/10/Designer-1.png
END:VEVENT
BEGIN:VEVENT
DTSTART;TZID=America/Detroit:20260123T083000
DTEND;TZID=America/Detroit:20260123T083000
DTSTAMP:20260421T202008
CREATED:20251024T191854Z
LAST-MODIFIED:20251024T191854Z
UID:10007415-1769157000-1769157000@brookhavenrecreation.com
SUMMARY:Soul Dancing
DESCRIPTION:Is a fun and social way to enjoy music and exercise\, with choreographed steps that are performed in sync by a group of dancers.
URL:https://brookhavenrecreation.com/event/soul-dancing/2026-01-23/
LOCATION:Jimmy Furlow Senior Citizen Center
ATTACH;FMTTYPE=image/png:https://brookhavenrecreation.com/wp-content/uploads/2025/10/Designer-1.png
END:VEVENT
BEGIN:VEVENT
DTSTART;TZID=America/Detroit:20260123T000000
DTEND;TZID=America/Detroit:20260123T235959
DTSTAMP:20260421T202008
CREATED:20251024T180452Z
LAST-MODIFIED:20251024T180452Z
UID:10000081-1769126400-1769212799@brookhavenrecreation.com
SUMMARY:Basketball Registration Deadline
DESCRIPTION:
URL:https://brookhavenrecreation.com/event/basketball-registration-deadline/
LOCATION:N/A
ATTACH;FMTTYPE=image/png:https://brookhavenrecreation.com/wp-content/uploads/2025/10/Designer-1.png
END:VEVENT
BEGIN:VEVENT
DTSTART;TZID=America/Detroit:20260122T140000
DTEND;TZID=America/Detroit:20260122T140000
DTSTAMP:20260421T202008
CREATED:20251024T191338Z
LAST-MODIFIED:20251024T191338Z
UID:10005190-1769090400-1769090400@brookhavenrecreation.com
SUMMARY:Rummy Club
DESCRIPTION:Rummy club meets Thursdays at 2:00 pm. This group has participation requirements. Contact us for more information: 601-835-5076.
URL:https://brookhavenrecreation.com/event/rummy-club/2026-01-22/
LOCATION:Jimmy Furlow Senior Citizen Center
ATTACH;FMTTYPE=image/png:https://brookhavenrecreation.com/wp-content/uploads/2025/10/Designer-1.png
END:VEVENT
BEGIN:VEVENT
DTSTART;TZID=America/Detroit:20260122T130000
DTEND;TZID=America/Detroit:20260122T130000
DTSTAMP:20260421T202008
CREATED:20251024T190957Z
LAST-MODIFIED:20251024T190957Z
UID:10004138-1769086800-1769086800@brookhavenrecreation.com
SUMMARY:Bingo
DESCRIPTION:Bingo meets Thursdays at 1:00pm and is open to the public\, just bring a wrapped gift ($10 minimum value).
URL:https://brookhavenrecreation.com/event/bingo/2026-01-22/
LOCATION:Jimmy Furlow Senior Citizen Center
ATTACH;FMTTYPE=image/png:https://brookhavenrecreation.com/wp-content/uploads/2025/10/Designer-1.png
END:VEVENT
BEGIN:VEVENT
DTSTART;TZID=America/Detroit:20260122T100000
DTEND;TZID=America/Detroit:20260122T110000
DTSTAMP:20260421T202008
CREATED:20251024T182944Z
LAST-MODIFIED:20251024T182944Z
UID:10002332-1769076000-1769079600@brookhavenrecreation.com
SUMMARY:Fitness Class (Sit-n-Fit)
DESCRIPTION:Our computer lab is open Monday – Wednesday from 8:00 am- 1:00pm.
URL:https://brookhavenrecreation.com/event/fitness-class-sit-n-fit/2026-01-22/
LOCATION:Jimmy Furlow Senior Citizen Center
ATTACH;FMTTYPE=image/png:https://brookhavenrecreation.com/wp-content/uploads/2025/10/Designer-1.png
END:VEVENT
BEGIN:VEVENT
DTSTART;TZID=America/Detroit:20260122T083000
DTEND;TZID=America/Detroit:20260122T083000
DTSTAMP:20260421T202008
CREATED:20251024T190615Z
LAST-MODIFIED:20251024T190615Z
UID:10003288-1769070600-1769070600@brookhavenrecreation.com
SUMMARY:Walking Club
DESCRIPTION:Indoor walking club helps with mobility\, weight loss\, and socialization.
URL:https://brookhavenrecreation.com/event/walking-club/2026-01-22/
LOCATION:Jimmy Furlow Senior Citizen Center
ATTACH;FMTTYPE=image/png:https://brookhavenrecreation.com/wp-content/uploads/2025/10/Designer-1.png
END:VEVENT
BEGIN:VEVENT
DTSTART;TZID=America/Detroit:20260121T081000
DTEND;TZID=America/Detroit:20260121T103000
DTSTAMP:20260421T202008
CREATED:20251024T181946Z
LAST-MODIFIED:20251024T182041Z
UID:10000637-1768983000-1768991400@brookhavenrecreation.com
SUMMARY:Line Dancing
DESCRIPTION:Is a fun and social way to enjoy music and exercise\, with choreographed steps that are performed in sync by a group of dancers.
URL:https://brookhavenrecreation.com/event/line-dancing/2026-01-21/
LOCATION:Jimmy Furlow Senior Citizen Center
ATTACH;FMTTYPE=image/png:https://brookhavenrecreation.com/wp-content/uploads/2025/10/Designer-1.png
END:VEVENT
BEGIN:VEVENT
DTSTART;TZID=America/Detroit:20260121T080000
DTEND;TZID=America/Detroit:20260121T130000
DTSTAMP:20260421T202008
CREATED:20251024T181619Z
LAST-MODIFIED:20251024T182057Z
UID:10000100-1768982400-1769000400@brookhavenrecreation.com
SUMMARY:Computer Lab
DESCRIPTION:Our computer lab is open Monday – Wednesday from 8:00 am- 1:00pm.
URL:https://brookhavenrecreation.com/event/computer-lab/2026-01-21/
LOCATION:Jimmy Furlow Senior Citizen Center
ATTACH;FMTTYPE=image/png:https://brookhavenrecreation.com/wp-content/uploads/2025/10/Designer-1.png
END:VEVENT
BEGIN:VEVENT
DTSTART;TZID=America/Detroit:20260120T130000
DTEND;TZID=America/Detroit:20260120T130000
DTSTAMP:20260421T202008
CREATED:20251024T191039Z
LAST-MODIFIED:20251024T191039Z
UID:10004664-1768914000-1768914000@brookhavenrecreation.com
SUMMARY:Bridge Group
DESCRIPTION:Bridge Group meets Tuesdays at 1:00 pm. This group has participation requirements. Contact us for more information: 601-835-5076.
URL:https://brookhavenrecreation.com/event/bridge-group/2026-01-20/
LOCATION:Jimmy Furlow Senior Citizen Center
ATTACH;FMTTYPE=image/png:https://brookhavenrecreation.com/wp-content/uploads/2025/10/Designer-1.png
END:VEVENT
BEGIN:VEVENT
DTSTART;TZID=America/Detroit:20260120T100000
DTEND;TZID=America/Detroit:20260120T110000
DTSTAMP:20260421T202008
CREATED:20251024T182944Z
LAST-MODIFIED:20251024T182944Z
UID:10002331-1768903200-1768906800@brookhavenrecreation.com
SUMMARY:Fitness Class (Sit-n-Fit)
DESCRIPTION:Our computer lab is open Monday – Wednesday from 8:00 am- 1:00pm.
URL:https://brookhavenrecreation.com/event/fitness-class-sit-n-fit/2026-01-20/
LOCATION:Jimmy Furlow Senior Citizen Center
ATTACH;FMTTYPE=image/png:https://brookhavenrecreation.com/wp-content/uploads/2025/10/Designer-1.png
END:VEVENT
BEGIN:VEVENT
DTSTART;TZID=America/Detroit:20260119T130000
DTEND;TZID=America/Detroit:20260119T140000
DTSTAMP:20260421T202008
CREATED:20251024T182845Z
LAST-MODIFIED:20251024T182845Z
UID:10001985-1768827600-1768831200@brookhavenrecreation.com
SUMMARY:Jammin Sesion
DESCRIPTION:Our computer lab is open Monday – Wednesday from 8:00 am- 1:00pm.
URL:https://brookhavenrecreation.com/event/jammin-sesion-2/2026-01-19/
LOCATION:Jimmy Furlow Senior Citizen Center
ATTACH;FMTTYPE=image/png:https://brookhavenrecreation.com/wp-content/uploads/2025/10/Designer-1.png
END:VEVENT
BEGIN:VEVENT
DTSTART;TZID=America/Detroit:20260119T113000
DTEND;TZID=America/Detroit:20260119T113000
DTSTAMP:20260421T202008
CREATED:20251024T191617Z
LAST-MODIFIED:20251024T191617Z
UID:10006241-1768822200-1768822200@brookhavenrecreation.com
SUMMARY:Bunco
DESCRIPTION:Bunco meets Mondays at 11:30 am. This group has participation requirements. Contact us for more information: 601-835-5076.
URL:https://brookhavenrecreation.com/event/bunco/2026-01-19/
LOCATION:Jimmy Furlow Senior Citizen Center
ATTACH;FMTTYPE=image/png:https://brookhavenrecreation.com/wp-content/uploads/2025/10/Designer-1.png
END:VEVENT
BEGIN:VEVENT
DTSTART;TZID=America/Detroit:20260119T081000
DTEND;TZID=America/Detroit:20260119T103000
DTSTAMP:20260421T202008
CREATED:20251024T181946Z
LAST-MODIFIED:20251024T182041Z
UID:10000636-1768810200-1768818600@brookhavenrecreation.com
SUMMARY:Line Dancing
DESCRIPTION:Is a fun and social way to enjoy music and exercise\, with choreographed steps that are performed in sync by a group of dancers.
URL:https://brookhavenrecreation.com/event/line-dancing/2026-01-19/
LOCATION:Jimmy Furlow Senior Citizen Center
ATTACH;FMTTYPE=image/png:https://brookhavenrecreation.com/wp-content/uploads/2025/10/Designer-1.png
END:VEVENT
BEGIN:VEVENT
DTSTART;TZID=America/Detroit:20260116T110000
DTEND;TZID=America/Detroit:20260116T110000
DTSTAMP:20260421T202008
CREATED:20251024T191407Z
LAST-MODIFIED:20251024T191407Z
UID:10005715-1768561200-1768561200@brookhavenrecreation.com
SUMMARY:Card Sharks
DESCRIPTION:Card Sharks meets Fridays at 11:00 am. This group has participation requirements. Contact us for more information: 601-835-5076.
URL:https://brookhavenrecreation.com/event/card-sharks/2026-01-16/
LOCATION:Jimmy Furlow Senior Citizen Center
ATTACH;FMTTYPE=image/png:https://brookhavenrecreation.com/wp-content/uploads/2025/10/Designer-1.png
END:VEVENT
BEGIN:VEVENT
DTSTART;TZID=America/Detroit:20260116T083000
DTEND;TZID=America/Detroit:20260116T083000
DTSTAMP:20260421T202008
CREATED:20251024T191854Z
LAST-MODIFIED:20251024T191854Z
UID:10007414-1768552200-1768552200@brookhavenrecreation.com
SUMMARY:Soul Dancing
DESCRIPTION:Is a fun and social way to enjoy music and exercise\, with choreographed steps that are performed in sync by a group of dancers.
URL:https://brookhavenrecreation.com/event/soul-dancing/2026-01-16/
LOCATION:Jimmy Furlow Senior Citizen Center
ATTACH;FMTTYPE=image/png:https://brookhavenrecreation.com/wp-content/uploads/2025/10/Designer-1.png
END:VEVENT
BEGIN:VEVENT
DTSTART;TZID=America/Detroit:20260115T140000
DTEND;TZID=America/Detroit:20260115T140000
DTSTAMP:20260421T202008
CREATED:20251024T191338Z
LAST-MODIFIED:20251024T191338Z
UID:10005189-1768485600-1768485600@brookhavenrecreation.com
SUMMARY:Rummy Club
DESCRIPTION:Rummy club meets Thursdays at 2:00 pm. This group has participation requirements. Contact us for more information: 601-835-5076.
URL:https://brookhavenrecreation.com/event/rummy-club/2026-01-15/
LOCATION:Jimmy Furlow Senior Citizen Center
ATTACH;FMTTYPE=image/png:https://brookhavenrecreation.com/wp-content/uploads/2025/10/Designer-1.png
END:VEVENT
BEGIN:VEVENT
DTSTART;TZID=America/Detroit:20260115T130000
DTEND;TZID=America/Detroit:20260115T130000
DTSTAMP:20260421T202008
CREATED:20251024T190957Z
LAST-MODIFIED:20251024T190957Z
UID:10004137-1768482000-1768482000@brookhavenrecreation.com
SUMMARY:Bingo
DESCRIPTION:Bingo meets Thursdays at 1:00pm and is open to the public\, just bring a wrapped gift ($10 minimum value).
URL:https://brookhavenrecreation.com/event/bingo/2026-01-15/
LOCATION:Jimmy Furlow Senior Citizen Center
ATTACH;FMTTYPE=image/png:https://brookhavenrecreation.com/wp-content/uploads/2025/10/Designer-1.png
END:VEVENT
BEGIN:VEVENT
DTSTART;TZID=America/Detroit:20260115T100000
DTEND;TZID=America/Detroit:20260115T110000
DTSTAMP:20260421T202008
CREATED:20251024T182944Z
LAST-MODIFIED:20251024T182944Z
UID:10002330-1768471200-1768474800@brookhavenrecreation.com
SUMMARY:Fitness Class (Sit-n-Fit)
DESCRIPTION:Our computer lab is open Monday – Wednesday from 8:00 am- 1:00pm.
URL:https://brookhavenrecreation.com/event/fitness-class-sit-n-fit/2026-01-15/
LOCATION:Jimmy Furlow Senior Citizen Center
ATTACH;FMTTYPE=image/png:https://brookhavenrecreation.com/wp-content/uploads/2025/10/Designer-1.png
END:VEVENT
BEGIN:VEVENT
DTSTART;TZID=America/Detroit:20260115T083000
DTEND;TZID=America/Detroit:20260115T083000
DTSTAMP:20260421T202008
CREATED:20251024T190615Z
LAST-MODIFIED:20251024T190615Z
UID:10003287-1768465800-1768465800@brookhavenrecreation.com
SUMMARY:Walking Club
DESCRIPTION:Indoor walking club helps with mobility\, weight loss\, and socialization.
URL:https://brookhavenrecreation.com/event/walking-club/2026-01-15/
LOCATION:Jimmy Furlow Senior Citizen Center
ATTACH;FMTTYPE=image/png:https://brookhavenrecreation.com/wp-content/uploads/2025/10/Designer-1.png
END:VEVENT
BEGIN:VEVENT
DTSTART;TZID=America/Detroit:20260114T081000
DTEND;TZID=America/Detroit:20260114T103000
DTSTAMP:20260421T202008
CREATED:20251024T181946Z
LAST-MODIFIED:20251024T182041Z
UID:10000635-1768378200-1768386600@brookhavenrecreation.com
SUMMARY:Line Dancing
DESCRIPTION:Is a fun and social way to enjoy music and exercise\, with choreographed steps that are performed in sync by a group of dancers.
URL:https://brookhavenrecreation.com/event/line-dancing/2026-01-14/
LOCATION:Jimmy Furlow Senior Citizen Center
ATTACH;FMTTYPE=image/png:https://brookhavenrecreation.com/wp-content/uploads/2025/10/Designer-1.png
END:VEVENT
BEGIN:VEVENT
DTSTART;TZID=America/Detroit:20260114T080000
DTEND;TZID=America/Detroit:20260114T130000
DTSTAMP:20260421T202008
CREATED:20251024T181619Z
LAST-MODIFIED:20251024T182057Z
UID:10000099-1768377600-1768395600@brookhavenrecreation.com
SUMMARY:Computer Lab
DESCRIPTION:Our computer lab is open Monday – Wednesday from 8:00 am- 1:00pm.
URL:https://brookhavenrecreation.com/event/computer-lab/2026-01-14/
LOCATION:Jimmy Furlow Senior Citizen Center
ATTACH;FMTTYPE=image/png:https://brookhavenrecreation.com/wp-content/uploads/2025/10/Designer-1.png
END:VEVENT
BEGIN:VEVENT
DTSTART;TZID=America/Detroit:20260114T000000
DTEND;TZID=America/Detroit:20260114T235959
DTSTAMP:20260421T202008
CREATED:20251024T191750Z
LAST-MODIFIED:20251024T191750Z
UID:10007080-1768348800-1768435199@brookhavenrecreation.com
SUMMARY:Piecemakers Quilting Club
DESCRIPTION:Piecemakers Quilting Club meets once a month. This group has participation requirements. Contact us for more information: 601-835-5076.
URL:https://brookhavenrecreation.com/event/piecemakers-quilting-club/2026-01-14/
LOCATION:Jimmy Furlow Senior Citizen Center
ATTACH;FMTTYPE=image/png:https://brookhavenrecreation.com/wp-content/uploads/2025/10/Designer-1.png
END:VEVENT
BEGIN:VEVENT
DTSTART;TZID=America/Detroit:20260113T130000
DTEND;TZID=America/Detroit:20260113T130000
DTSTAMP:20260421T202008
CREATED:20251024T191039Z
LAST-MODIFIED:20251024T191039Z
UID:10004663-1768309200-1768309200@brookhavenrecreation.com
SUMMARY:Bridge Group
DESCRIPTION:Bridge Group meets Tuesdays at 1:00 pm. This group has participation requirements. Contact us for more information: 601-835-5076.
URL:https://brookhavenrecreation.com/event/bridge-group/2026-01-13/
LOCATION:Jimmy Furlow Senior Citizen Center
ATTACH;FMTTYPE=image/png:https://brookhavenrecreation.com/wp-content/uploads/2025/10/Designer-1.png
END:VEVENT
BEGIN:VEVENT
DTSTART;TZID=America/Detroit:20260113T120000
DTEND;TZID=America/Detroit:20260113T160000
DTSTAMP:20260421T202008
CREATED:20251024T190510Z
LAST-MODIFIED:20251024T190510Z
UID:10003155-1768305600-1768320000@brookhavenrecreation.com
SUMMARY:Homemakers Club
DESCRIPTION:This club is with Mississippi State Extension service\, they teach a variety of things. Teach a variety of things\, such as canning\, gardening\, sewing\, nutrition etc.
URL:https://brookhavenrecreation.com/event/homemakers-club-2/2026-01-13/
LOCATION:Jimmy Furlow Senior Citizen Center
ATTACH;FMTTYPE=image/png:https://brookhavenrecreation.com/wp-content/uploads/2025/10/Designer-1.png
END:VEVENT
END:VCALENDAR