BEGIN:VCALENDAR
VERSION:2.0
PRODID:-//Brookhaven Parks &amp; Playgrounds - ECPv6.15.10//NONSGML v1.0//EN
CALSCALE:GREGORIAN
METHOD:PUBLISH
X-WR-CALNAME:Brookhaven Parks &amp; Playgrounds
X-ORIGINAL-URL:https://brookhavenrecreation.com
X-WR-CALDESC:Events for Brookhaven Parks &amp; Playgrounds
REFRESH-INTERVAL;VALUE=DURATION:PT1H
X-Robots-Tag:noindex
X-PUBLISHED-TTL:PT1H
BEGIN:VTIMEZONE
TZID:America/Detroit
BEGIN:DAYLIGHT
TZOFFSETFROM:-0500
TZOFFSETTO:-0400
TZNAME:EDT
DTSTART:20250309T070000
END:DAYLIGHT
BEGIN:STANDARD
TZOFFSETFROM:-0400
TZOFFSETTO:-0500
TZNAME:EST
DTSTART:20251102T060000
END:STANDARD
BEGIN:DAYLIGHT
TZOFFSETFROM:-0500
TZOFFSETTO:-0400
TZNAME:EDT
DTSTART:20260308T070000
END:DAYLIGHT
BEGIN:STANDARD
TZOFFSETFROM:-0400
TZOFFSETTO:-0500
TZNAME:EST
DTSTART:20261101T060000
END:STANDARD
BEGIN:DAYLIGHT
TZOFFSETFROM:-0500
TZOFFSETTO:-0400
TZNAME:EDT
DTSTART:20270314T070000
END:DAYLIGHT
BEGIN:STANDARD
TZOFFSETFROM:-0400
TZOFFSETTO:-0500
TZNAME:EST
DTSTART:20271107T060000
END:STANDARD
END:VTIMEZONE
BEGIN:VEVENT
DTSTART;TZID=America/Detroit:20261002T083000
DTEND;TZID=America/Detroit:20261002T083000
DTSTAMP:20260422T184358
CREATED:20251024T191854Z
LAST-MODIFIED:20251024T191854Z
UID:10007451-1790929800-1790929800@brookhavenrecreation.com
SUMMARY:Soul Dancing
DESCRIPTION:Is a fun and social way to enjoy music and exercise\, with choreographed steps that are performed in sync by a group of dancers.
URL:https://brookhavenrecreation.com/event/soul-dancing/2026-10-02/
LOCATION:Jimmy Furlow Senior Citizen Center
ATTACH;FMTTYPE=image/png:https://brookhavenrecreation.com/wp-content/uploads/2025/10/Designer-1.png
END:VEVENT
BEGIN:VEVENT
DTSTART;TZID=America/Detroit:20261002T090000
DTEND;TZID=America/Detroit:20261002T110000
DTSTAMP:20260422T184358
CREATED:20251024T190905Z
LAST-MODIFIED:20251024T190905Z
UID:10004075-1790931600-1790938800@brookhavenrecreation.com
SUMMARY:Trivia Club
DESCRIPTION:Meets 1st Friday of the month 9:00 am-11:00am. Individual or (2) member teams.
URL:https://brookhavenrecreation.com/event/trivia-club/2026-10-02/
LOCATION:Jimmy Furlow Senior Citizen Center
ATTACH;FMTTYPE=image/png:https://brookhavenrecreation.com/wp-content/uploads/2025/10/Designer-1.png
END:VEVENT
BEGIN:VEVENT
DTSTART;TZID=America/Detroit:20261002T110000
DTEND;TZID=America/Detroit:20261002T110000
DTSTAMP:20260422T184358
CREATED:20251024T191407Z
LAST-MODIFIED:20251024T191407Z
UID:10005752-1790938800-1790938800@brookhavenrecreation.com
SUMMARY:Card Sharks
DESCRIPTION:Card Sharks meets Fridays at 11:00 am. This group has participation requirements. Contact us for more information: 601-835-5076.
URL:https://brookhavenrecreation.com/event/card-sharks/2026-10-02/
LOCATION:Jimmy Furlow Senior Citizen Center
ATTACH;FMTTYPE=image/png:https://brookhavenrecreation.com/wp-content/uploads/2025/10/Designer-1.png
END:VEVENT
BEGIN:VEVENT
DTSTART;TZID=America/Detroit:20261005T000000
DTEND;TZID=America/Detroit:20261005T235959
DTSTAMP:20260422T184358
CREATED:20251024T182642Z
LAST-MODIFIED:20251024T191948Z
UID:10001670-1791158400-1791244799@brookhavenrecreation.com
SUMMARY:Jammin Sesion
DESCRIPTION:Meets 1st and 3rd Monday of each month at 1:00pm. “Picken” and “Grinnen” just for fun! Come play an instrument\, clap or sing along- all are welcome!
URL:https://brookhavenrecreation.com/event/jammin-sesion/2026-10-05/
LOCATION:Jimmy Furlow Senior Citizen Center
ATTACH;FMTTYPE=image/png:https://brookhavenrecreation.com/wp-content/uploads/2025/10/Designer-1.png
END:VEVENT
BEGIN:VEVENT
DTSTART;TZID=America/Detroit:20261005T081000
DTEND;TZID=America/Detroit:20261005T103000
DTSTAMP:20260422T184358
CREATED:20251024T181946Z
LAST-MODIFIED:20251024T182041Z
UID:10000710-1791187800-1791196200@brookhavenrecreation.com
SUMMARY:Line Dancing
DESCRIPTION:Is a fun and social way to enjoy music and exercise\, with choreographed steps that are performed in sync by a group of dancers.
URL:https://brookhavenrecreation.com/event/line-dancing/2026-10-05/
LOCATION:Jimmy Furlow Senior Citizen Center
ATTACH;FMTTYPE=image/png:https://brookhavenrecreation.com/wp-content/uploads/2025/10/Designer-1.png
END:VEVENT
BEGIN:VEVENT
DTSTART;TZID=America/Detroit:20261005T113000
DTEND;TZID=America/Detroit:20261005T113000
DTSTAMP:20260422T184358
CREATED:20251024T191617Z
LAST-MODIFIED:20251024T191617Z
UID:10006278-1791199800-1791199800@brookhavenrecreation.com
SUMMARY:Bunco
DESCRIPTION:Bunco meets Mondays at 11:30 am. This group has participation requirements. Contact us for more information: 601-835-5076.
URL:https://brookhavenrecreation.com/event/bunco/2026-10-05/
LOCATION:Jimmy Furlow Senior Citizen Center
ATTACH;FMTTYPE=image/png:https://brookhavenrecreation.com/wp-content/uploads/2025/10/Designer-1.png
END:VEVENT
BEGIN:VEVENT
DTSTART;TZID=America/Detroit:20261006T100000
DTEND;TZID=America/Detroit:20261006T110000
DTSTAMP:20260422T184358
CREATED:20251024T182944Z
LAST-MODIFIED:20251024T182944Z
UID:10002405-1791280800-1791284400@brookhavenrecreation.com
SUMMARY:Fitness Class (Sit-n-Fit)
DESCRIPTION:Our computer lab is open Monday – Wednesday from 8:00 am- 1:00pm.
URL:https://brookhavenrecreation.com/event/fitness-class-sit-n-fit/2026-10-06/
LOCATION:Jimmy Furlow Senior Citizen Center
ATTACH;FMTTYPE=image/png:https://brookhavenrecreation.com/wp-content/uploads/2025/10/Designer-1.png
END:VEVENT
BEGIN:VEVENT
DTSTART;TZID=America/Detroit:20261006T130000
DTEND;TZID=America/Detroit:20261006T130000
DTSTAMP:20260422T184358
CREATED:20251024T191039Z
LAST-MODIFIED:20251024T191039Z
UID:10004701-1791291600-1791291600@brookhavenrecreation.com
SUMMARY:Bridge Group
DESCRIPTION:Bridge Group meets Tuesdays at 1:00 pm. This group has participation requirements. Contact us for more information: 601-835-5076.
URL:https://brookhavenrecreation.com/event/bridge-group/2026-10-06/
LOCATION:Jimmy Furlow Senior Citizen Center
ATTACH;FMTTYPE=image/png:https://brookhavenrecreation.com/wp-content/uploads/2025/10/Designer-1.png
END:VEVENT
BEGIN:VEVENT
DTSTART;TZID=America/Detroit:20261007T080000
DTEND;TZID=America/Detroit:20261007T130000
DTSTAMP:20260422T184358
CREATED:20251024T181619Z
LAST-MODIFIED:20251024T182057Z
UID:10000137-1791360000-1791378000@brookhavenrecreation.com
SUMMARY:Computer Lab
DESCRIPTION:Our computer lab is open Monday – Wednesday from 8:00 am- 1:00pm.
URL:https://brookhavenrecreation.com/event/computer-lab/2026-10-07/
LOCATION:Jimmy Furlow Senior Citizen Center
ATTACH;FMTTYPE=image/png:https://brookhavenrecreation.com/wp-content/uploads/2025/10/Designer-1.png
END:VEVENT
BEGIN:VEVENT
DTSTART;TZID=America/Detroit:20261007T081000
DTEND;TZID=America/Detroit:20261007T103000
DTSTAMP:20260422T184358
CREATED:20251024T181946Z
LAST-MODIFIED:20251024T182041Z
UID:10000711-1791360600-1791369000@brookhavenrecreation.com
SUMMARY:Line Dancing
DESCRIPTION:Is a fun and social way to enjoy music and exercise\, with choreographed steps that are performed in sync by a group of dancers.
URL:https://brookhavenrecreation.com/event/line-dancing/2026-10-07/
LOCATION:Jimmy Furlow Senior Citizen Center
ATTACH;FMTTYPE=image/png:https://brookhavenrecreation.com/wp-content/uploads/2025/10/Designer-1.png
END:VEVENT
BEGIN:VEVENT
DTSTART;TZID=America/Detroit:20261008T083000
DTEND;TZID=America/Detroit:20261008T083000
DTSTAMP:20260422T184358
CREATED:20251024T190615Z
LAST-MODIFIED:20251024T190615Z
UID:10003325-1791448200-1791448200@brookhavenrecreation.com
SUMMARY:Walking Club
DESCRIPTION:Indoor walking club helps with mobility\, weight loss\, and socialization.
URL:https://brookhavenrecreation.com/event/walking-club/2026-10-08/
LOCATION:Jimmy Furlow Senior Citizen Center
ATTACH;FMTTYPE=image/png:https://brookhavenrecreation.com/wp-content/uploads/2025/10/Designer-1.png
END:VEVENT
BEGIN:VEVENT
DTSTART;TZID=America/Detroit:20261008T100000
DTEND;TZID=America/Detroit:20261008T110000
DTSTAMP:20260422T184358
CREATED:20251024T182944Z
LAST-MODIFIED:20251024T182944Z
UID:10002406-1791453600-1791457200@brookhavenrecreation.com
SUMMARY:Fitness Class (Sit-n-Fit)
DESCRIPTION:Our computer lab is open Monday – Wednesday from 8:00 am- 1:00pm.
URL:https://brookhavenrecreation.com/event/fitness-class-sit-n-fit/2026-10-08/
LOCATION:Jimmy Furlow Senior Citizen Center
ATTACH;FMTTYPE=image/png:https://brookhavenrecreation.com/wp-content/uploads/2025/10/Designer-1.png
END:VEVENT
BEGIN:VEVENT
DTSTART;TZID=America/Detroit:20261008T130000
DTEND;TZID=America/Detroit:20261008T130000
DTSTAMP:20260422T184358
CREATED:20251024T190957Z
LAST-MODIFIED:20251024T190957Z
UID:10004175-1791464400-1791464400@brookhavenrecreation.com
SUMMARY:Bingo
DESCRIPTION:Bingo meets Thursdays at 1:00pm and is open to the public\, just bring a wrapped gift ($10 minimum value).
URL:https://brookhavenrecreation.com/event/bingo/2026-10-08/
LOCATION:Jimmy Furlow Senior Citizen Center
ATTACH;FMTTYPE=image/png:https://brookhavenrecreation.com/wp-content/uploads/2025/10/Designer-1.png
END:VEVENT
BEGIN:VEVENT
DTSTART;TZID=America/Detroit:20261008T140000
DTEND;TZID=America/Detroit:20261008T140000
DTSTAMP:20260422T184358
CREATED:20251024T191338Z
LAST-MODIFIED:20251024T191338Z
UID:10005227-1791468000-1791468000@brookhavenrecreation.com
SUMMARY:Rummy Club
DESCRIPTION:Rummy club meets Thursdays at 2:00 pm. This group has participation requirements. Contact us for more information: 601-835-5076.
URL:https://brookhavenrecreation.com/event/rummy-club/2026-10-08/
LOCATION:Jimmy Furlow Senior Citizen Center
ATTACH;FMTTYPE=image/png:https://brookhavenrecreation.com/wp-content/uploads/2025/10/Designer-1.png
END:VEVENT
BEGIN:VEVENT
DTSTART;TZID=America/Detroit:20261008T160000
DTEND;TZID=America/Detroit:20261008T160000
DTSTAMP:20260422T184358
CREATED:20251024T191653Z
LAST-MODIFIED:20251024T191653Z
UID:10006765-1791475200-1791475200@brookhavenrecreation.com
SUMMARY:American Legion
DESCRIPTION:American Legion meets once a month. This group has participation requirements. Contact us for more information: 601-835-5076.
URL:https://brookhavenrecreation.com/event/american-legion/2026-10-08/
LOCATION:Jimmy Furlow Senior Citizen Center
ATTACH;FMTTYPE=image/png:https://brookhavenrecreation.com/wp-content/uploads/2025/10/Designer-1.png
END:VEVENT
BEGIN:VEVENT
DTSTART;TZID=America/Detroit:20261009T083000
DTEND;TZID=America/Detroit:20261009T083000
DTSTAMP:20260422T184358
CREATED:20251024T191854Z
LAST-MODIFIED:20251024T191854Z
UID:10007452-1791534600-1791534600@brookhavenrecreation.com
SUMMARY:Soul Dancing
DESCRIPTION:Is a fun and social way to enjoy music and exercise\, with choreographed steps that are performed in sync by a group of dancers.
URL:https://brookhavenrecreation.com/event/soul-dancing/2026-10-09/
LOCATION:Jimmy Furlow Senior Citizen Center
ATTACH;FMTTYPE=image/png:https://brookhavenrecreation.com/wp-content/uploads/2025/10/Designer-1.png
END:VEVENT
BEGIN:VEVENT
DTSTART;TZID=America/Detroit:20261009T110000
DTEND;TZID=America/Detroit:20261009T110000
DTSTAMP:20260422T184358
CREATED:20251024T191407Z
LAST-MODIFIED:20251024T191407Z
UID:10005753-1791543600-1791543600@brookhavenrecreation.com
SUMMARY:Card Sharks
DESCRIPTION:Card Sharks meets Fridays at 11:00 am. This group has participation requirements. Contact us for more information: 601-835-5076.
URL:https://brookhavenrecreation.com/event/card-sharks/2026-10-09/
LOCATION:Jimmy Furlow Senior Citizen Center
ATTACH;FMTTYPE=image/png:https://brookhavenrecreation.com/wp-content/uploads/2025/10/Designer-1.png
END:VEVENT
BEGIN:VEVENT
DTSTART;TZID=America/Detroit:20261012T081000
DTEND;TZID=America/Detroit:20261012T103000
DTSTAMP:20260422T184358
CREATED:20251024T181946Z
LAST-MODIFIED:20251024T182041Z
UID:10000712-1791792600-1791801000@brookhavenrecreation.com
SUMMARY:Line Dancing
DESCRIPTION:Is a fun and social way to enjoy music and exercise\, with choreographed steps that are performed in sync by a group of dancers.
URL:https://brookhavenrecreation.com/event/line-dancing/2026-10-12/
LOCATION:Jimmy Furlow Senior Citizen Center
ATTACH;FMTTYPE=image/png:https://brookhavenrecreation.com/wp-content/uploads/2025/10/Designer-1.png
END:VEVENT
BEGIN:VEVENT
DTSTART;TZID=America/Detroit:20261012T113000
DTEND;TZID=America/Detroit:20261012T113000
DTSTAMP:20260422T184358
CREATED:20251024T191617Z
LAST-MODIFIED:20251024T191617Z
UID:10006279-1791804600-1791804600@brookhavenrecreation.com
SUMMARY:Bunco
DESCRIPTION:Bunco meets Mondays at 11:30 am. This group has participation requirements. Contact us for more information: 601-835-5076.
URL:https://brookhavenrecreation.com/event/bunco/2026-10-12/
LOCATION:Jimmy Furlow Senior Citizen Center
ATTACH;FMTTYPE=image/png:https://brookhavenrecreation.com/wp-content/uploads/2025/10/Designer-1.png
END:VEVENT
BEGIN:VEVENT
DTSTART;TZID=America/Detroit:20261013T100000
DTEND;TZID=America/Detroit:20261013T110000
DTSTAMP:20260422T184358
CREATED:20251024T182944Z
LAST-MODIFIED:20251024T182944Z
UID:10002407-1791885600-1791889200@brookhavenrecreation.com
SUMMARY:Fitness Class (Sit-n-Fit)
DESCRIPTION:Our computer lab is open Monday – Wednesday from 8:00 am- 1:00pm.
URL:https://brookhavenrecreation.com/event/fitness-class-sit-n-fit/2026-10-13/
LOCATION:Jimmy Furlow Senior Citizen Center
ATTACH;FMTTYPE=image/png:https://brookhavenrecreation.com/wp-content/uploads/2025/10/Designer-1.png
END:VEVENT
BEGIN:VEVENT
DTSTART;TZID=America/Detroit:20261013T120000
DTEND;TZID=America/Detroit:20261013T160000
DTSTAMP:20260422T184358
CREATED:20251024T183128Z
LAST-MODIFIED:20251024T183128Z
UID:10003103-1791892800-1791907200@brookhavenrecreation.com
SUMMARY:Homemakers Club
DESCRIPTION:This club is with Mississippi State Extension service\, they teach a variety of things. Teach a variety of things\, such as canning\, gardening\, sewing\, nutrition etc.
URL:https://brookhavenrecreation.com/event/homemakers-club/2026-10-13/
LOCATION:Jimmy Furlow Senior Citizen Center
ATTACH;FMTTYPE=image/png:https://brookhavenrecreation.com/wp-content/uploads/2025/10/Designer-1.png
END:VEVENT
BEGIN:VEVENT
DTSTART;TZID=America/Detroit:20261013T120000
DTEND;TZID=America/Detroit:20261013T160000
DTSTAMP:20260422T184358
CREATED:20251024T190510Z
LAST-MODIFIED:20251024T190510Z
UID:10003164-1791892800-1791907200@brookhavenrecreation.com
SUMMARY:Homemakers Club
DESCRIPTION:This club is with Mississippi State Extension service\, they teach a variety of things. Teach a variety of things\, such as canning\, gardening\, sewing\, nutrition etc.
URL:https://brookhavenrecreation.com/event/homemakers-club-2/2026-10-13/
LOCATION:Jimmy Furlow Senior Citizen Center
ATTACH;FMTTYPE=image/png:https://brookhavenrecreation.com/wp-content/uploads/2025/10/Designer-1.png
END:VEVENT
BEGIN:VEVENT
DTSTART;TZID=America/Detroit:20261013T130000
DTEND;TZID=America/Detroit:20261013T130000
DTSTAMP:20260422T184358
CREATED:20251024T191039Z
LAST-MODIFIED:20251024T191039Z
UID:10004702-1791896400-1791896400@brookhavenrecreation.com
SUMMARY:Bridge Group
DESCRIPTION:Bridge Group meets Tuesdays at 1:00 pm. This group has participation requirements. Contact us for more information: 601-835-5076.
URL:https://brookhavenrecreation.com/event/bridge-group/2026-10-13/
LOCATION:Jimmy Furlow Senior Citizen Center
ATTACH;FMTTYPE=image/png:https://brookhavenrecreation.com/wp-content/uploads/2025/10/Designer-1.png
END:VEVENT
BEGIN:VEVENT
DTSTART;TZID=America/Detroit:20261014T000000
DTEND;TZID=America/Detroit:20261014T235959
DTSTAMP:20260422T184358
CREATED:20251024T191750Z
LAST-MODIFIED:20251024T191750Z
UID:10007089-1791936000-1792022399@brookhavenrecreation.com
SUMMARY:Piecemakers Quilting Club
DESCRIPTION:Piecemakers Quilting Club meets once a month. This group has participation requirements. Contact us for more information: 601-835-5076.
URL:https://brookhavenrecreation.com/event/piecemakers-quilting-club/2026-10-14/
LOCATION:Jimmy Furlow Senior Citizen Center
ATTACH;FMTTYPE=image/png:https://brookhavenrecreation.com/wp-content/uploads/2025/10/Designer-1.png
END:VEVENT
BEGIN:VEVENT
DTSTART;TZID=America/Detroit:20261014T080000
DTEND;TZID=America/Detroit:20261014T130000
DTSTAMP:20260422T184358
CREATED:20251024T181619Z
LAST-MODIFIED:20251024T182057Z
UID:10000138-1791964800-1791982800@brookhavenrecreation.com
SUMMARY:Computer Lab
DESCRIPTION:Our computer lab is open Monday – Wednesday from 8:00 am- 1:00pm.
URL:https://brookhavenrecreation.com/event/computer-lab/2026-10-14/
LOCATION:Jimmy Furlow Senior Citizen Center
ATTACH;FMTTYPE=image/png:https://brookhavenrecreation.com/wp-content/uploads/2025/10/Designer-1.png
END:VEVENT
BEGIN:VEVENT
DTSTART;TZID=America/Detroit:20261014T081000
DTEND;TZID=America/Detroit:20261014T103000
DTSTAMP:20260422T184358
CREATED:20251024T181946Z
LAST-MODIFIED:20251024T182041Z
UID:10000713-1791965400-1791973800@brookhavenrecreation.com
SUMMARY:Line Dancing
DESCRIPTION:Is a fun and social way to enjoy music and exercise\, with choreographed steps that are performed in sync by a group of dancers.
URL:https://brookhavenrecreation.com/event/line-dancing/2026-10-14/
LOCATION:Jimmy Furlow Senior Citizen Center
ATTACH;FMTTYPE=image/png:https://brookhavenrecreation.com/wp-content/uploads/2025/10/Designer-1.png
END:VEVENT
BEGIN:VEVENT
DTSTART;TZID=America/Detroit:20261015T083000
DTEND;TZID=America/Detroit:20261015T083000
DTSTAMP:20260422T184358
CREATED:20251024T190615Z
LAST-MODIFIED:20251024T190615Z
UID:10003326-1792053000-1792053000@brookhavenrecreation.com
SUMMARY:Walking Club
DESCRIPTION:Indoor walking club helps with mobility\, weight loss\, and socialization.
URL:https://brookhavenrecreation.com/event/walking-club/2026-10-15/
LOCATION:Jimmy Furlow Senior Citizen Center
ATTACH;FMTTYPE=image/png:https://brookhavenrecreation.com/wp-content/uploads/2025/10/Designer-1.png
END:VEVENT
BEGIN:VEVENT
DTSTART;TZID=America/Detroit:20261015T100000
DTEND;TZID=America/Detroit:20261015T110000
DTSTAMP:20260422T184358
CREATED:20251024T182944Z
LAST-MODIFIED:20251024T182944Z
UID:10002408-1792058400-1792062000@brookhavenrecreation.com
SUMMARY:Fitness Class (Sit-n-Fit)
DESCRIPTION:Our computer lab is open Monday – Wednesday from 8:00 am- 1:00pm.
URL:https://brookhavenrecreation.com/event/fitness-class-sit-n-fit/2026-10-15/
LOCATION:Jimmy Furlow Senior Citizen Center
ATTACH;FMTTYPE=image/png:https://brookhavenrecreation.com/wp-content/uploads/2025/10/Designer-1.png
END:VEVENT
BEGIN:VEVENT
DTSTART;TZID=America/Detroit:20261015T130000
DTEND;TZID=America/Detroit:20261015T130000
DTSTAMP:20260422T184358
CREATED:20251024T190957Z
LAST-MODIFIED:20251024T190957Z
UID:10004176-1792069200-1792069200@brookhavenrecreation.com
SUMMARY:Bingo
DESCRIPTION:Bingo meets Thursdays at 1:00pm and is open to the public\, just bring a wrapped gift ($10 minimum value).
URL:https://brookhavenrecreation.com/event/bingo/2026-10-15/
LOCATION:Jimmy Furlow Senior Citizen Center
ATTACH;FMTTYPE=image/png:https://brookhavenrecreation.com/wp-content/uploads/2025/10/Designer-1.png
END:VEVENT
BEGIN:VEVENT
DTSTART;TZID=America/Detroit:20261015T140000
DTEND;TZID=America/Detroit:20261015T140000
DTSTAMP:20260422T184358
CREATED:20251024T191338Z
LAST-MODIFIED:20251024T191338Z
UID:10005228-1792072800-1792072800@brookhavenrecreation.com
SUMMARY:Rummy Club
DESCRIPTION:Rummy club meets Thursdays at 2:00 pm. This group has participation requirements. Contact us for more information: 601-835-5076.
URL:https://brookhavenrecreation.com/event/rummy-club/2026-10-15/
LOCATION:Jimmy Furlow Senior Citizen Center
ATTACH;FMTTYPE=image/png:https://brookhavenrecreation.com/wp-content/uploads/2025/10/Designer-1.png
END:VEVENT
END:VCALENDAR