BEGIN:VCALENDAR
VERSION:2.0
PRODID:-//Brookhaven Parks &amp; Playgrounds - ECPv6.15.10//NONSGML v1.0//EN
CALSCALE:GREGORIAN
METHOD:PUBLISH
X-WR-CALNAME:Brookhaven Parks &amp; Playgrounds
X-ORIGINAL-URL:https://brookhavenrecreation.com
X-WR-CALDESC:Events for Brookhaven Parks &amp; Playgrounds
REFRESH-INTERVAL;VALUE=DURATION:PT1H
X-Robots-Tag:noindex
X-PUBLISHED-TTL:PT1H
BEGIN:VTIMEZONE
TZID:America/Detroit
BEGIN:DAYLIGHT
TZOFFSETFROM:-0500
TZOFFSETTO:-0400
TZNAME:EDT
DTSTART:20260308T070000
END:DAYLIGHT
BEGIN:STANDARD
TZOFFSETFROM:-0400
TZOFFSETTO:-0500
TZNAME:EST
DTSTART:20261101T060000
END:STANDARD
BEGIN:DAYLIGHT
TZOFFSETFROM:-0500
TZOFFSETTO:-0400
TZNAME:EDT
DTSTART:20270314T070000
END:DAYLIGHT
BEGIN:STANDARD
TZOFFSETFROM:-0400
TZOFFSETTO:-0500
TZNAME:EST
DTSTART:20271107T060000
END:STANDARD
BEGIN:DAYLIGHT
TZOFFSETFROM:-0500
TZOFFSETTO:-0400
TZNAME:EDT
DTSTART:20280312T070000
END:DAYLIGHT
BEGIN:STANDARD
TZOFFSETFROM:-0400
TZOFFSETTO:-0500
TZNAME:EST
DTSTART:20281105T060000
END:STANDARD
END:VTIMEZONE
BEGIN:VEVENT
DTSTART;TZID=America/Detroit:20270419T081000
DTEND;TZID=America/Detroit:20270419T103000
DTSTAMP:20260425T181046
CREATED:20251024T181946Z
LAST-MODIFIED:20251024T182041Z
UID:10000766-1808122200-1808130600@brookhavenrecreation.com
SUMMARY:Line Dancing
DESCRIPTION:Is a fun and social way to enjoy music and exercise\, with choreographed steps that are performed in sync by a group of dancers.
URL:https://brookhavenrecreation.com/event/line-dancing/2027-04-19/
LOCATION:Jimmy Furlow Senior Citizen Center
ATTACH;FMTTYPE=image/png:https://brookhavenrecreation.com/wp-content/uploads/2025/10/Designer-1.png
END:VEVENT
BEGIN:VEVENT
DTSTART;TZID=America/Detroit:20270419T113000
DTEND;TZID=America/Detroit:20270419T113000
DTSTAMP:20260425T181046
CREATED:20251024T191617Z
LAST-MODIFIED:20251024T191617Z
UID:10006306-1808134200-1808134200@brookhavenrecreation.com
SUMMARY:Bunco
DESCRIPTION:Bunco meets Mondays at 11:30 am. This group has participation requirements. Contact us for more information: 601-835-5076.
URL:https://brookhavenrecreation.com/event/bunco/2027-04-19/
LOCATION:Jimmy Furlow Senior Citizen Center
ATTACH;FMTTYPE=image/png:https://brookhavenrecreation.com/wp-content/uploads/2025/10/Designer-1.png
END:VEVENT
BEGIN:VEVENT
DTSTART;TZID=America/Detroit:20270419T130000
DTEND;TZID=America/Detroit:20270419T140000
DTSTAMP:20260425T181046
CREATED:20251024T182845Z
LAST-MODIFIED:20251024T182845Z
UID:10002000-1808139600-1808143200@brookhavenrecreation.com
SUMMARY:Jammin Sesion
DESCRIPTION:Our computer lab is open Monday – Wednesday from 8:00 am- 1:00pm.
URL:https://brookhavenrecreation.com/event/jammin-sesion-2/2027-04-19/
LOCATION:Jimmy Furlow Senior Citizen Center
ATTACH;FMTTYPE=image/png:https://brookhavenrecreation.com/wp-content/uploads/2025/10/Designer-1.png
END:VEVENT
BEGIN:VEVENT
DTSTART;TZID=America/Detroit:20270420T100000
DTEND;TZID=America/Detroit:20270420T110000
DTSTAMP:20260425T181046
CREATED:20251024T182944Z
LAST-MODIFIED:20251024T182944Z
UID:10002461-1808215200-1808218800@brookhavenrecreation.com
SUMMARY:Fitness Class (Sit-n-Fit)
DESCRIPTION:Our computer lab is open Monday – Wednesday from 8:00 am- 1:00pm.
URL:https://brookhavenrecreation.com/event/fitness-class-sit-n-fit/2027-04-20/
LOCATION:Jimmy Furlow Senior Citizen Center
ATTACH;FMTTYPE=image/png:https://brookhavenrecreation.com/wp-content/uploads/2025/10/Designer-1.png
END:VEVENT
BEGIN:VEVENT
DTSTART;TZID=America/Detroit:20270420T130000
DTEND;TZID=America/Detroit:20270420T130000
DTSTAMP:20260425T181046
CREATED:20251024T191039Z
LAST-MODIFIED:20251024T191039Z
UID:10004729-1808226000-1808226000@brookhavenrecreation.com
SUMMARY:Bridge Group
DESCRIPTION:Bridge Group meets Tuesdays at 1:00 pm. This group has participation requirements. Contact us for more information: 601-835-5076.
URL:https://brookhavenrecreation.com/event/bridge-group/2027-04-20/
LOCATION:Jimmy Furlow Senior Citizen Center
ATTACH;FMTTYPE=image/png:https://brookhavenrecreation.com/wp-content/uploads/2025/10/Designer-1.png
END:VEVENT
BEGIN:VEVENT
DTSTART;TZID=America/Detroit:20270421T080000
DTEND;TZID=America/Detroit:20270421T130000
DTSTAMP:20260425T181046
CREATED:20251024T181619Z
LAST-MODIFIED:20251024T182057Z
UID:10000165-1808294400-1808312400@brookhavenrecreation.com
SUMMARY:Computer Lab
DESCRIPTION:Our computer lab is open Monday – Wednesday from 8:00 am- 1:00pm.
URL:https://brookhavenrecreation.com/event/computer-lab/2027-04-21/
LOCATION:Jimmy Furlow Senior Citizen Center
ATTACH;FMTTYPE=image/png:https://brookhavenrecreation.com/wp-content/uploads/2025/10/Designer-1.png
END:VEVENT
BEGIN:VEVENT
DTSTART;TZID=America/Detroit:20270421T081000
DTEND;TZID=America/Detroit:20270421T103000
DTSTAMP:20260425T181046
CREATED:20251024T181946Z
LAST-MODIFIED:20251024T182041Z
UID:10000767-1808295000-1808303400@brookhavenrecreation.com
SUMMARY:Line Dancing
DESCRIPTION:Is a fun and social way to enjoy music and exercise\, with choreographed steps that are performed in sync by a group of dancers.
URL:https://brookhavenrecreation.com/event/line-dancing/2027-04-21/
LOCATION:Jimmy Furlow Senior Citizen Center
ATTACH;FMTTYPE=image/png:https://brookhavenrecreation.com/wp-content/uploads/2025/10/Designer-1.png
END:VEVENT
BEGIN:VEVENT
DTSTART;TZID=America/Detroit:20270422T083000
DTEND;TZID=America/Detroit:20270422T083000
DTSTAMP:20260425T181046
CREATED:20251024T190615Z
LAST-MODIFIED:20251024T190615Z
UID:10003353-1808382600-1808382600@brookhavenrecreation.com
SUMMARY:Walking Club
DESCRIPTION:Indoor walking club helps with mobility\, weight loss\, and socialization.
URL:https://brookhavenrecreation.com/event/walking-club/2027-04-22/
LOCATION:Jimmy Furlow Senior Citizen Center
ATTACH;FMTTYPE=image/png:https://brookhavenrecreation.com/wp-content/uploads/2025/10/Designer-1.png
END:VEVENT
BEGIN:VEVENT
DTSTART;TZID=America/Detroit:20270422T100000
DTEND;TZID=America/Detroit:20270422T110000
DTSTAMP:20260425T181046
CREATED:20251024T182944Z
LAST-MODIFIED:20251024T182944Z
UID:10002462-1808388000-1808391600@brookhavenrecreation.com
SUMMARY:Fitness Class (Sit-n-Fit)
DESCRIPTION:Our computer lab is open Monday – Wednesday from 8:00 am- 1:00pm.
URL:https://brookhavenrecreation.com/event/fitness-class-sit-n-fit/2027-04-22/
LOCATION:Jimmy Furlow Senior Citizen Center
ATTACH;FMTTYPE=image/png:https://brookhavenrecreation.com/wp-content/uploads/2025/10/Designer-1.png
END:VEVENT
BEGIN:VEVENT
DTSTART;TZID=America/Detroit:20270422T130000
DTEND;TZID=America/Detroit:20270422T130000
DTSTAMP:20260425T181046
CREATED:20251024T190957Z
LAST-MODIFIED:20251024T190957Z
UID:10004203-1808398800-1808398800@brookhavenrecreation.com
SUMMARY:Bingo
DESCRIPTION:Bingo meets Thursdays at 1:00pm and is open to the public\, just bring a wrapped gift ($10 minimum value).
URL:https://brookhavenrecreation.com/event/bingo/2027-04-22/
LOCATION:Jimmy Furlow Senior Citizen Center
ATTACH;FMTTYPE=image/png:https://brookhavenrecreation.com/wp-content/uploads/2025/10/Designer-1.png
END:VEVENT
BEGIN:VEVENT
DTSTART;TZID=America/Detroit:20270422T140000
DTEND;TZID=America/Detroit:20270422T140000
DTSTAMP:20260425T181046
CREATED:20251024T191338Z
LAST-MODIFIED:20251024T191338Z
UID:10005255-1808402400-1808402400@brookhavenrecreation.com
SUMMARY:Rummy Club
DESCRIPTION:Rummy club meets Thursdays at 2:00 pm. This group has participation requirements. Contact us for more information: 601-835-5076.
URL:https://brookhavenrecreation.com/event/rummy-club/2027-04-22/
LOCATION:Jimmy Furlow Senior Citizen Center
ATTACH;FMTTYPE=image/png:https://brookhavenrecreation.com/wp-content/uploads/2025/10/Designer-1.png
END:VEVENT
BEGIN:VEVENT
DTSTART;TZID=America/Detroit:20270423T083000
DTEND;TZID=America/Detroit:20270423T083000
DTSTAMP:20260425T181046
CREATED:20251024T191854Z
LAST-MODIFIED:20251024T191854Z
UID:10007480-1808469000-1808469000@brookhavenrecreation.com
SUMMARY:Soul Dancing
DESCRIPTION:Is a fun and social way to enjoy music and exercise\, with choreographed steps that are performed in sync by a group of dancers.
URL:https://brookhavenrecreation.com/event/soul-dancing/2027-04-23/
LOCATION:Jimmy Furlow Senior Citizen Center
ATTACH;FMTTYPE=image/png:https://brookhavenrecreation.com/wp-content/uploads/2025/10/Designer-1.png
END:VEVENT
BEGIN:VEVENT
DTSTART;TZID=America/Detroit:20270423T110000
DTEND;TZID=America/Detroit:20270423T110000
DTSTAMP:20260425T181046
CREATED:20251024T191407Z
LAST-MODIFIED:20251024T191407Z
UID:10005781-1808478000-1808478000@brookhavenrecreation.com
SUMMARY:Card Sharks
DESCRIPTION:Card Sharks meets Fridays at 11:00 am. This group has participation requirements. Contact us for more information: 601-835-5076.
URL:https://brookhavenrecreation.com/event/card-sharks/2027-04-23/
LOCATION:Jimmy Furlow Senior Citizen Center
ATTACH;FMTTYPE=image/png:https://brookhavenrecreation.com/wp-content/uploads/2025/10/Designer-1.png
END:VEVENT
BEGIN:VEVENT
DTSTART;TZID=America/Detroit:20270426T081000
DTEND;TZID=America/Detroit:20270426T103000
DTSTAMP:20260425T181046
CREATED:20251024T181946Z
LAST-MODIFIED:20251024T182041Z
UID:10000768-1808727000-1808735400@brookhavenrecreation.com
SUMMARY:Line Dancing
DESCRIPTION:Is a fun and social way to enjoy music and exercise\, with choreographed steps that are performed in sync by a group of dancers.
URL:https://brookhavenrecreation.com/event/line-dancing/2027-04-26/
LOCATION:Jimmy Furlow Senior Citizen Center
ATTACH;FMTTYPE=image/png:https://brookhavenrecreation.com/wp-content/uploads/2025/10/Designer-1.png
END:VEVENT
BEGIN:VEVENT
DTSTART;TZID=America/Detroit:20270426T113000
DTEND;TZID=America/Detroit:20270426T113000
DTSTAMP:20260425T181046
CREATED:20251024T191617Z
LAST-MODIFIED:20251024T191617Z
UID:10006307-1808739000-1808739000@brookhavenrecreation.com
SUMMARY:Bunco
DESCRIPTION:Bunco meets Mondays at 11:30 am. This group has participation requirements. Contact us for more information: 601-835-5076.
URL:https://brookhavenrecreation.com/event/bunco/2027-04-26/
LOCATION:Jimmy Furlow Senior Citizen Center
ATTACH;FMTTYPE=image/png:https://brookhavenrecreation.com/wp-content/uploads/2025/10/Designer-1.png
END:VEVENT
BEGIN:VEVENT
DTSTART;TZID=America/Detroit:20270427T100000
DTEND;TZID=America/Detroit:20270427T110000
DTSTAMP:20260425T181046
CREATED:20251024T182944Z
LAST-MODIFIED:20251024T182944Z
UID:10002463-1808820000-1808823600@brookhavenrecreation.com
SUMMARY:Fitness Class (Sit-n-Fit)
DESCRIPTION:Our computer lab is open Monday – Wednesday from 8:00 am- 1:00pm.
URL:https://brookhavenrecreation.com/event/fitness-class-sit-n-fit/2027-04-27/
LOCATION:Jimmy Furlow Senior Citizen Center
ATTACH;FMTTYPE=image/png:https://brookhavenrecreation.com/wp-content/uploads/2025/10/Designer-1.png
END:VEVENT
BEGIN:VEVENT
DTSTART;TZID=America/Detroit:20270427T130000
DTEND;TZID=America/Detroit:20270427T130000
DTSTAMP:20260425T181046
CREATED:20251024T191039Z
LAST-MODIFIED:20251024T191039Z
UID:10004730-1808830800-1808830800@brookhavenrecreation.com
SUMMARY:Bridge Group
DESCRIPTION:Bridge Group meets Tuesdays at 1:00 pm. This group has participation requirements. Contact us for more information: 601-835-5076.
URL:https://brookhavenrecreation.com/event/bridge-group/2027-04-27/
LOCATION:Jimmy Furlow Senior Citizen Center
ATTACH;FMTTYPE=image/png:https://brookhavenrecreation.com/wp-content/uploads/2025/10/Designer-1.png
END:VEVENT
BEGIN:VEVENT
DTSTART;TZID=America/Detroit:20270428T080000
DTEND;TZID=America/Detroit:20270428T130000
DTSTAMP:20260425T181046
CREATED:20251024T181619Z
LAST-MODIFIED:20251024T182057Z
UID:10000166-1808899200-1808917200@brookhavenrecreation.com
SUMMARY:Computer Lab
DESCRIPTION:Our computer lab is open Monday – Wednesday from 8:00 am- 1:00pm.
URL:https://brookhavenrecreation.com/event/computer-lab/2027-04-28/
LOCATION:Jimmy Furlow Senior Citizen Center
ATTACH;FMTTYPE=image/png:https://brookhavenrecreation.com/wp-content/uploads/2025/10/Designer-1.png
END:VEVENT
BEGIN:VEVENT
DTSTART;TZID=America/Detroit:20270428T081000
DTEND;TZID=America/Detroit:20270428T103000
DTSTAMP:20260425T181046
CREATED:20251024T181946Z
LAST-MODIFIED:20251024T182041Z
UID:10000769-1808899800-1808908200@brookhavenrecreation.com
SUMMARY:Line Dancing
DESCRIPTION:Is a fun and social way to enjoy music and exercise\, with choreographed steps that are performed in sync by a group of dancers.
URL:https://brookhavenrecreation.com/event/line-dancing/2027-04-28/
LOCATION:Jimmy Furlow Senior Citizen Center
ATTACH;FMTTYPE=image/png:https://brookhavenrecreation.com/wp-content/uploads/2025/10/Designer-1.png
END:VEVENT
BEGIN:VEVENT
DTSTART;TZID=America/Detroit:20270429T083000
DTEND;TZID=America/Detroit:20270429T083000
DTSTAMP:20260425T181046
CREATED:20251024T190615Z
LAST-MODIFIED:20251024T190615Z
UID:10003354-1808987400-1808987400@brookhavenrecreation.com
SUMMARY:Walking Club
DESCRIPTION:Indoor walking club helps with mobility\, weight loss\, and socialization.
URL:https://brookhavenrecreation.com/event/walking-club/2027-04-29/
LOCATION:Jimmy Furlow Senior Citizen Center
ATTACH;FMTTYPE=image/png:https://brookhavenrecreation.com/wp-content/uploads/2025/10/Designer-1.png
END:VEVENT
BEGIN:VEVENT
DTSTART;TZID=America/Detroit:20270429T100000
DTEND;TZID=America/Detroit:20270429T110000
DTSTAMP:20260425T181046
CREATED:20251024T182944Z
LAST-MODIFIED:20251024T182944Z
UID:10002464-1808992800-1808996400@brookhavenrecreation.com
SUMMARY:Fitness Class (Sit-n-Fit)
DESCRIPTION:Our computer lab is open Monday – Wednesday from 8:00 am- 1:00pm.
URL:https://brookhavenrecreation.com/event/fitness-class-sit-n-fit/2027-04-29/
LOCATION:Jimmy Furlow Senior Citizen Center
ATTACH;FMTTYPE=image/png:https://brookhavenrecreation.com/wp-content/uploads/2025/10/Designer-1.png
END:VEVENT
BEGIN:VEVENT
DTSTART;TZID=America/Detroit:20270429T130000
DTEND;TZID=America/Detroit:20270429T130000
DTSTAMP:20260425T181046
CREATED:20251024T190957Z
LAST-MODIFIED:20251024T190957Z
UID:10004204-1809003600-1809003600@brookhavenrecreation.com
SUMMARY:Bingo
DESCRIPTION:Bingo meets Thursdays at 1:00pm and is open to the public\, just bring a wrapped gift ($10 minimum value).
URL:https://brookhavenrecreation.com/event/bingo/2027-04-29/
LOCATION:Jimmy Furlow Senior Citizen Center
ATTACH;FMTTYPE=image/png:https://brookhavenrecreation.com/wp-content/uploads/2025/10/Designer-1.png
END:VEVENT
BEGIN:VEVENT
DTSTART;TZID=America/Detroit:20270429T140000
DTEND;TZID=America/Detroit:20270429T140000
DTSTAMP:20260425T181046
CREATED:20251024T191338Z
LAST-MODIFIED:20251024T191338Z
UID:10005256-1809007200-1809007200@brookhavenrecreation.com
SUMMARY:Rummy Club
DESCRIPTION:Rummy club meets Thursdays at 2:00 pm. This group has participation requirements. Contact us for more information: 601-835-5076.
URL:https://brookhavenrecreation.com/event/rummy-club/2027-04-29/
LOCATION:Jimmy Furlow Senior Citizen Center
ATTACH;FMTTYPE=image/png:https://brookhavenrecreation.com/wp-content/uploads/2025/10/Designer-1.png
END:VEVENT
BEGIN:VEVENT
DTSTART;TZID=America/Detroit:20270430T083000
DTEND;TZID=America/Detroit:20270430T083000
DTSTAMP:20260425T181046
CREATED:20251024T191854Z
LAST-MODIFIED:20251024T191854Z
UID:10007481-1809073800-1809073800@brookhavenrecreation.com
SUMMARY:Soul Dancing
DESCRIPTION:Is a fun and social way to enjoy music and exercise\, with choreographed steps that are performed in sync by a group of dancers.
URL:https://brookhavenrecreation.com/event/soul-dancing/2027-04-30/
LOCATION:Jimmy Furlow Senior Citizen Center
ATTACH;FMTTYPE=image/png:https://brookhavenrecreation.com/wp-content/uploads/2025/10/Designer-1.png
END:VEVENT
BEGIN:VEVENT
DTSTART;TZID=America/Detroit:20270430T110000
DTEND;TZID=America/Detroit:20270430T110000
DTSTAMP:20260425T181046
CREATED:20251024T191407Z
LAST-MODIFIED:20251024T191407Z
UID:10005782-1809082800-1809082800@brookhavenrecreation.com
SUMMARY:Card Sharks
DESCRIPTION:Card Sharks meets Fridays at 11:00 am. This group has participation requirements. Contact us for more information: 601-835-5076.
URL:https://brookhavenrecreation.com/event/card-sharks/2027-04-30/
LOCATION:Jimmy Furlow Senior Citizen Center
ATTACH;FMTTYPE=image/png:https://brookhavenrecreation.com/wp-content/uploads/2025/10/Designer-1.png
END:VEVENT
BEGIN:VEVENT
DTSTART;TZID=America/Detroit:20270503T000000
DTEND;TZID=America/Detroit:20270503T235959
DTSTAMP:20260425T181046
CREATED:20251024T182642Z
LAST-MODIFIED:20251024T191948Z
UID:10001677-1809302400-1809388799@brookhavenrecreation.com
SUMMARY:Jammin Sesion
DESCRIPTION:Meets 1st and 3rd Monday of each month at 1:00pm. “Picken” and “Grinnen” just for fun! Come play an instrument\, clap or sing along- all are welcome!
URL:https://brookhavenrecreation.com/event/jammin-sesion/2027-05-03/
LOCATION:Jimmy Furlow Senior Citizen Center
ATTACH;FMTTYPE=image/png:https://brookhavenrecreation.com/wp-content/uploads/2025/10/Designer-1.png
END:VEVENT
BEGIN:VEVENT
DTSTART;TZID=America/Detroit:20270503T081000
DTEND;TZID=America/Detroit:20270503T103000
DTSTAMP:20260425T181046
CREATED:20251024T181946Z
LAST-MODIFIED:20251024T182041Z
UID:10000770-1809331800-1809340200@brookhavenrecreation.com
SUMMARY:Line Dancing
DESCRIPTION:Is a fun and social way to enjoy music and exercise\, with choreographed steps that are performed in sync by a group of dancers.
URL:https://brookhavenrecreation.com/event/line-dancing/2027-05-03/
LOCATION:Jimmy Furlow Senior Citizen Center
ATTACH;FMTTYPE=image/png:https://brookhavenrecreation.com/wp-content/uploads/2025/10/Designer-1.png
END:VEVENT
BEGIN:VEVENT
DTSTART;TZID=America/Detroit:20270503T113000
DTEND;TZID=America/Detroit:20270503T113000
DTSTAMP:20260425T181046
CREATED:20251024T191617Z
LAST-MODIFIED:20251024T191617Z
UID:10006308-1809343800-1809343800@brookhavenrecreation.com
SUMMARY:Bunco
DESCRIPTION:Bunco meets Mondays at 11:30 am. This group has participation requirements. Contact us for more information: 601-835-5076.
URL:https://brookhavenrecreation.com/event/bunco/2027-05-03/
LOCATION:Jimmy Furlow Senior Citizen Center
ATTACH;FMTTYPE=image/png:https://brookhavenrecreation.com/wp-content/uploads/2025/10/Designer-1.png
END:VEVENT
BEGIN:VEVENT
DTSTART;TZID=America/Detroit:20270504T100000
DTEND;TZID=America/Detroit:20270504T110000
DTSTAMP:20260425T181046
CREATED:20251024T182944Z
LAST-MODIFIED:20251024T182944Z
UID:10002465-1809424800-1809428400@brookhavenrecreation.com
SUMMARY:Fitness Class (Sit-n-Fit)
DESCRIPTION:Our computer lab is open Monday – Wednesday from 8:00 am- 1:00pm.
URL:https://brookhavenrecreation.com/event/fitness-class-sit-n-fit/2027-05-04/
LOCATION:Jimmy Furlow Senior Citizen Center
ATTACH;FMTTYPE=image/png:https://brookhavenrecreation.com/wp-content/uploads/2025/10/Designer-1.png
END:VEVENT
BEGIN:VEVENT
DTSTART;TZID=America/Detroit:20270504T130000
DTEND;TZID=America/Detroit:20270504T130000
DTSTAMP:20260425T181046
CREATED:20251024T191039Z
LAST-MODIFIED:20251024T191039Z
UID:10004731-1809435600-1809435600@brookhavenrecreation.com
SUMMARY:Bridge Group
DESCRIPTION:Bridge Group meets Tuesdays at 1:00 pm. This group has participation requirements. Contact us for more information: 601-835-5076.
URL:https://brookhavenrecreation.com/event/bridge-group/2027-05-04/
LOCATION:Jimmy Furlow Senior Citizen Center
ATTACH;FMTTYPE=image/png:https://brookhavenrecreation.com/wp-content/uploads/2025/10/Designer-1.png
END:VEVENT
END:VCALENDAR